BEGIN:VCALENDAR
VERSION:2.0
PRODID:-//IATSE 26 - ECPv6.14.2//NONSGML v1.0//EN
CALSCALE:GREGORIAN
METHOD:PUBLISH
X-WR-CALNAME:IATSE 26
X-ORIGINAL-URL:https://www.iatse26.org
X-WR-CALDESC:Events for IATSE 26
REFRESH-INTERVAL;VALUE=DURATION:PT1H
X-Robots-Tag:noindex
X-PUBLISHED-TTL:PT1H
BEGIN:VTIMEZONE
TZID:America/Detroit
BEGIN:DAYLIGHT
TZOFFSETFROM:-0500
TZOFFSETTO:-0400
TZNAME:EDT
DTSTART:20250309T070000
END:DAYLIGHT
BEGIN:STANDARD
TZOFFSETFROM:-0400
TZOFFSETTO:-0500
TZNAME:EST
DTSTART:20251102T060000
END:STANDARD
END:VTIMEZONE
BEGIN:VEVENT
DTSTART;VALUE=DATE:20250912
DTEND;VALUE=DATE:20250914
DTSTAMP:20260424T102152
CREATED:20250502T010814Z
LAST-MODIFIED:20250502T010939Z
UID:10004261-1757635200-1757807999@www.iatse26.org
SUMMARY:GRS
DESCRIPTION:
URL:https://www.iatse26.org/event/grs/
CATEGORIES:DeVos Hall
END:VEVENT
BEGIN:VEVENT
DTSTART;VALUE=DATE:20250912
DTEND;VALUE=DATE:20250914
DTSTAMP:20260424T102152
CREATED:20250605T035914Z
LAST-MODIFIED:20250815T012904Z
UID:10004287-1757635200-1757807999@www.iatse26.org
SUMMARY:Life Surge
DESCRIPTION:
URL:https://www.iatse26.org/event/life-surge/
CATEGORIES:VanAndel Arena
END:VEVENT
BEGIN:VEVENT
DTSTART;VALUE=DATE:20250912
DTEND;VALUE=DATE:20250916
DTSTAMP:20260424T102152
CREATED:20250908T163403Z
LAST-MODIFIED:20250908T163403Z
UID:10004332-1757635200-1757980799@www.iatse26.org
SUMMARY:GRB Petoskey
DESCRIPTION:
URL:https://www.iatse26.org/event/grb-petoskey/
CATEGORIES:Ballet Run Out
END:VEVENT
END:VCALENDAR