BEGIN:VCALENDAR
VERSION:2.0
PRODID:-//IATSE 26 - ECPv6.14.2//NONSGML v1.0//EN
CALSCALE:GREGORIAN
METHOD:PUBLISH
X-ORIGINAL-URL:https://www.iatse26.org
X-WR-CALDESC:Events for IATSE 26
REFRESH-INTERVAL;VALUE=DURATION:PT1H
X-Robots-Tag:noindex
X-PUBLISHED-TTL:PT1H
BEGIN:VTIMEZONE
TZID:America/Detroit
BEGIN:DAYLIGHT
TZOFFSETFROM:-0500
TZOFFSETTO:-0400
TZNAME:EDT
DTSTART:20250309T070000
END:DAYLIGHT
BEGIN:STANDARD
TZOFFSETFROM:-0400
TZOFFSETTO:-0500
TZNAME:EST
DTSTART:20251102T060000
END:STANDARD
END:VTIMEZONE
BEGIN:VEVENT
DTSTART;VALUE=DATE:20250918
DTEND;VALUE=DATE:20250919
DTSTAMP:20260424T083057
CREATED:20250502T001022Z
LAST-MODIFIED:20250502T001022Z
UID:10004250-1758153600-1758239999@www.iatse26.org
SUMMARY:Jon Pardi
DESCRIPTION:
URL:https://www.iatse26.org/event/jon-pardi/
CATEGORIES:VanAndel Arena
END:VEVENT
BEGIN:VEVENT
DTSTART;VALUE=DATE:20250918
DTEND;VALUE=DATE:20250921
DTSTAMP:20260424T083057
CREATED:20250908T182154Z
LAST-MODIFIED:20250908T182154Z
UID:10004338-1758153600-1758412799@www.iatse26.org
SUMMARY:GLAO
DESCRIPTION:
URL:https://www.iatse26.org/event/glao/
CATEGORIES:DeVos Place
END:VEVENT
END:VCALENDAR