BEGIN:VCALENDAR
VERSION:2.0
PRODID:-//IATSE 26 - ECPv6.14.2//NONSGML v1.0//EN
CALSCALE:GREGORIAN
METHOD:PUBLISH
X-ORIGINAL-URL:https://www.iatse26.org
X-WR-CALDESC:Events for IATSE 26
REFRESH-INTERVAL;VALUE=DURATION:PT1H
X-Robots-Tag:noindex
X-PUBLISHED-TTL:PT1H
BEGIN:VTIMEZONE
TZID:America/Detroit
BEGIN:DAYLIGHT
TZOFFSETFROM:-0500
TZOFFSETTO:-0400
TZNAME:EDT
DTSTART:20260308T070000
END:DAYLIGHT
BEGIN:STANDARD
TZOFFSETFROM:-0400
TZOFFSETTO:-0500
TZNAME:EST
DTSTART:20261101T060000
END:STANDARD
END:VTIMEZONE
BEGIN:VEVENT
DTSTART;VALUE=DATE:20260503
DTEND;VALUE=DATE:20260507
DTSTAMP:20260422T120755
CREATED:20260412T163941Z
LAST-MODIFIED:20260412T163941Z
UID:10004749-1777766400-1778111999@www.iatse26.org
SUMMARY:Nestle
DESCRIPTION:
URL:https://www.iatse26.org/event/nestle/
CATEGORIES:DeVos Place
END:VEVENT
BEGIN:VEVENT
DTSTART;VALUE=DATE:20260503
DTEND;VALUE=DATE:20260508
DTSTAMP:20260422T120755
CREATED:20260412T163826Z
LAST-MODIFIED:20260412T163826Z
UID:10004748-1777766400-1778198399@www.iatse26.org
SUMMARY:Homeland Training
DESCRIPTION:
URL:https://www.iatse26.org/event/homeland-training/
CATEGORIES:DeVos Place
END:VEVENT
BEGIN:VEVENT
DTSTART;VALUE=DATE:20260504
DTEND;VALUE=DATE:20260507
DTSTAMP:20260422T120755
CREATED:20260416T170123Z
LAST-MODIFIED:20260416T170123Z
UID:10004773-1777852800-1778111999@www.iatse26.org
SUMMARY:T-Rex Strike
DESCRIPTION:
URL:https://www.iatse26.org/event/t-rex-strike-2/
CATEGORIES:Uncategorized
END:VEVENT
END:VCALENDAR