BEGIN:VCALENDAR
VERSION:2.0
PRODID:-//IATSE 26 - ECPv6.14.2//NONSGML v1.0//EN
CALSCALE:GREGORIAN
METHOD:PUBLISH
X-ORIGINAL-URL:https://www.iatse26.org
X-WR-CALDESC:Events for IATSE 26
REFRESH-INTERVAL;VALUE=DURATION:PT1H
X-Robots-Tag:noindex
X-PUBLISHED-TTL:PT1H
BEGIN:VTIMEZONE
TZID:America/Detroit
BEGIN:DAYLIGHT
TZOFFSETFROM:-0500
TZOFFSETTO:-0400
TZNAME:EDT
DTSTART:20260308T070000
END:DAYLIGHT
BEGIN:STANDARD
TZOFFSETFROM:-0400
TZOFFSETTO:-0500
TZNAME:EST
DTSTART:20261101T060000
END:STANDARD
END:VTIMEZONE
BEGIN:VEVENT
DTSTART;VALUE=DATE:20260422
DTEND;VALUE=DATE:20260423
DTSTAMP:20260420T105934
CREATED:20251203T212923Z
LAST-MODIFIED:20251203T212923Z
UID:10004544-1776816000-1776902399@www.iatse26.org
SUMMARY:Rise
DESCRIPTION:
URL:https://www.iatse26.org/event/rise-24/
CATEGORIES:VanAndel Arena
END:VEVENT
BEGIN:VEVENT
DTSTART;VALUE=DATE:20260425
DTEND;VALUE=DATE:20260426
DTSTAMP:20260420T105934
CREATED:20251203T213222Z
LAST-MODIFIED:20251203T213222Z
UID:10004545-1777075200-1777161599@www.iatse26.org
SUMMARY:Rise
DESCRIPTION:
URL:https://www.iatse26.org/event/rise-25/
CATEGORIES:VanAndel Arena
END:VEVENT
END:VCALENDAR