BEGIN:VCALENDAR
VERSION:2.0
PRODID:-//IATSE 26 - ECPv6.14.2//NONSGML v1.0//EN
CALSCALE:GREGORIAN
METHOD:PUBLISH
X-WR-CALNAME:IATSE 26
X-ORIGINAL-URL:https://www.iatse26.org
X-WR-CALDESC:Events for IATSE 26
REFRESH-INTERVAL;VALUE=DURATION:PT1H
X-Robots-Tag:noindex
X-PUBLISHED-TTL:PT1H
BEGIN:VTIMEZONE
TZID:America/Detroit
BEGIN:DAYLIGHT
TZOFFSETFROM:-0500
TZOFFSETTO:-0400
TZNAME:EDT
DTSTART:20250309T070000
END:DAYLIGHT
BEGIN:STANDARD
TZOFFSETFROM:-0400
TZOFFSETTO:-0500
TZNAME:EST
DTSTART:20251102T060000
END:STANDARD
END:VTIMEZONE
BEGIN:VEVENT
DTSTART;VALUE=DATE:20251021
DTEND;VALUE=DATE:20251022
DTSTAMP:20260420T133032
CREATED:20250624T173452Z
LAST-MODIFIED:20250624T173452Z
UID:10004296-1761004800-1761091199@www.iatse26.org
SUMMARY:PlayStation concert
DESCRIPTION:
URL:https://www.iatse26.org/event/playstation-concert/
CATEGORIES:DeVos Hall
END:VEVENT
BEGIN:VEVENT
DTSTART;VALUE=DATE:20251021
DTEND;VALUE=DATE:20251022
DTSTAMP:20260420T133032
CREATED:20241126T163431Z
LAST-MODIFIED:20250920T194429Z
UID:10003938-1761004800-1761091199@www.iatse26.org
SUMMARY:GRS Bravo
DESCRIPTION:
URL:https://www.iatse26.org/event/grs-bravo-2/
CATEGORIES:DeVos Place,Uncategorized
END:VEVENT
BEGIN:VEVENT
DTSTART;VALUE=DATE:20251018
DTEND;VALUE=DATE:20251019
DTSTAMP:20260420T133032
CREATED:20250913T175542Z
LAST-MODIFIED:20250913T175542Z
UID:10004345-1760745600-1760831999@www.iatse26.org
SUMMARY:Griffin's
DESCRIPTION:
URL:https://www.iatse26.org/event/griffins-8/
CATEGORIES:VanAndel Arena
END:VEVENT
BEGIN:VEVENT
DTSTART;VALUE=DATE:20251017
DTEND;VALUE=DATE:20251019
DTSTAMP:20260420T133032
CREATED:20250502T012208Z
LAST-MODIFIED:20250502T012208Z
UID:10004265-1760659200-1760831999@www.iatse26.org
SUMMARY:GRS
DESCRIPTION:
URL:https://www.iatse26.org/event/grs-4/
CATEGORIES:DeVos Hall
END:VEVENT
BEGIN:VEVENT
DTSTART;VALUE=DATE:20251017
DTEND;VALUE=DATE:20251018
DTSTAMP:20260420T133032
CREATED:20250624T193340Z
LAST-MODIFIED:20250624T193340Z
UID:10004304-1760659200-1760745599@www.iatse26.org
SUMMARY:Griffin's
DESCRIPTION:
URL:https://www.iatse26.org/event/griffins-2/
CATEGORIES:VanAndel Arena
END:VEVENT
BEGIN:VEVENT
DTSTART;VALUE=DATE:20251015
DTEND;VALUE=DATE:20251018
DTSTAMP:20260420T133032
CREATED:20241126T163728Z
LAST-MODIFIED:20241126T163728Z
UID:10003940-1760486400-1760745599@www.iatse26.org
SUMMARY:MISHRM
DESCRIPTION:
URL:https://www.iatse26.org/event/mishrm-2/
CATEGORIES:DeVos Place
END:VEVENT
BEGIN:VEVENT
DTSTART;VALUE=DATE:20251014
DTEND;VALUE=DATE:20251015
DTSTAMP:20260420T133032
CREATED:20250921T020317Z
LAST-MODIFIED:20250921T020657Z
UID:10004426-1760400000-1760486399@www.iatse26.org
SUMMARY:Sports HOF
DESCRIPTION:
URL:https://www.iatse26.org/event/sports-hof/
CATEGORIES:VanAndel Arena
END:VEVENT
BEGIN:VEVENT
DTSTART;VALUE=DATE:20251011
DTEND;VALUE=DATE:20251012
DTSTAMP:20260420T133032
CREATED:20251010T002355Z
LAST-MODIFIED:20251010T002355Z
UID:10004444-1760140800-1760227199@www.iatse26.org
SUMMARY:Changeover
DESCRIPTION:
URL:https://www.iatse26.org/event/changeover-5/
CATEGORIES:VanAndel Arena
END:VEVENT
BEGIN:VEVENT
DTSTART;VALUE=DATE:20251011
DTEND;VALUE=DATE:20251012
DTSTAMP:20260420T133032
CREATED:20250919T185227Z
LAST-MODIFIED:20250919T185227Z
UID:10004377-1760140800-1760227199@www.iatse26.org
SUMMARY:Bridal Show (Fall)
DESCRIPTION:
URL:https://www.iatse26.org/event/bridal-show-fall/
CATEGORIES:DeVos Place
END:VEVENT
BEGIN:VEVENT
DTSTART;VALUE=DATE:20251011
DTEND;VALUE=DATE:20251012
DTSTAMP:20260420T133032
CREATED:20250502T001550Z
LAST-MODIFIED:20250502T001550Z
UID:10004252-1760140800-1760227199@www.iatse26.org
SUMMARY:Brandon Lake
DESCRIPTION:
URL:https://www.iatse26.org/event/brandon-lake/
CATEGORIES:VanAndel Arena
END:VEVENT
BEGIN:VEVENT
DTSTART;VALUE=DATE:20251010
DTEND;VALUE=DATE:20251011
DTSTAMP:20260420T133032
CREATED:20250502T001407Z
LAST-MODIFIED:20250502T001407Z
UID:10004251-1760054400-1760140799@www.iatse26.org
SUMMARY:Eric Church
DESCRIPTION:
URL:https://www.iatse26.org/event/eric-church/
CATEGORIES:VanAndel Arena
END:VEVENT
BEGIN:VEVENT
DTSTART;VALUE=DATE:20251007
DTEND;VALUE=DATE:20251013
DTSTAMP:20260420T133032
CREATED:20250306T195518Z
LAST-MODIFIED:20250306T195518Z
UID:10004149-1759795200-1760313599@www.iatse26.org
SUMMARY:Water for Elephants
DESCRIPTION:
URL:https://www.iatse26.org/event/water-for-elephants/
CATEGORIES:DeVos Hall
END:VEVENT
BEGIN:VEVENT
DTSTART;VALUE=DATE:20251007
DTEND;VALUE=DATE:20251010
DTSTAMP:20260420T133032
CREATED:20250919T185012Z
LAST-MODIFIED:20250919T185012Z
UID:10004376-1759795200-1760054399@www.iatse26.org
SUMMARY:GFS
DESCRIPTION:
URL:https://www.iatse26.org/event/gfs/
CATEGORIES:DeVos Place
END:VEVENT
BEGIN:VEVENT
DTSTART;VALUE=DATE:20251006
DTEND;VALUE=DATE:20251009
DTSTAMP:20260420T133032
CREATED:20241126T163601Z
LAST-MODIFIED:20241126T163601Z
UID:10003939-1759708800-1759967999@www.iatse26.org
SUMMARY:GFS
DESCRIPTION:
URL:https://www.iatse26.org/event/gfs-4/
CATEGORIES:DeVos Place
END:VEVENT
BEGIN:VEVENT
DTSTART;VALUE=DATE:20251005
DTEND;VALUE=DATE:20251012
DTSTAMP:20260420T133032
CREATED:20251001T000852Z
LAST-MODIFIED:20251001T000852Z
UID:10004430-1759622400-1760227199@www.iatse26.org
SUMMARY:OGR
DESCRIPTION:
URL:https://www.iatse26.org/event/ogr-2/
CATEGORIES:Forest Hills FAC
END:VEVENT
BEGIN:VEVENT
DTSTART;VALUE=DATE:20251005
DTEND;VALUE=DATE:20251006
DTSTAMP:20260420T133032
CREATED:20250919T173503Z
LAST-MODIFIED:20250919T173503Z
UID:10004360-1759622400-1759708799@www.iatse26.org
SUMMARY:Dear Diary
DESCRIPTION:
URL:https://www.iatse26.org/event/dear-diary/
CATEGORIES:DeVos Hall
END:VEVENT
BEGIN:VEVENT
DTSTART;VALUE=DATE:20251004
DTEND;VALUE=DATE:20251005
DTSTAMP:20260420T133032
CREATED:20250919T184753Z
LAST-MODIFIED:20250919T184753Z
UID:10004375-1759536000-1759622399@www.iatse26.org
SUMMARY:Fashion Show
DESCRIPTION:
URL:https://www.iatse26.org/event/fashion-show/
CATEGORIES:DeVos Place
END:VEVENT
BEGIN:VEVENT
DTSTART;VALUE=DATE:20251004
DTEND;VALUE=DATE:20251005
DTSTAMP:20260420T133032
CREATED:20250502T011625Z
LAST-MODIFIED:20250502T011625Z
UID:10004264-1759536000-1759622399@www.iatse26.org
SUMMARY:Ben Folds W/GRS
DESCRIPTION:
URL:https://www.iatse26.org/event/ben-folds-w-grs/
CATEGORIES:DeVos Hall
END:VEVENT
BEGIN:VEVENT
DTSTART;VALUE=DATE:20251003
DTEND;VALUE=DATE:20251004
DTSTAMP:20260420T133032
CREATED:20250805T165300Z
LAST-MODIFIED:20250814T174103Z
UID:10004322-1759449600-1759535999@www.iatse26.org
SUMMARY:Adam Sandler
DESCRIPTION:
URL:https://www.iatse26.org/event/adam-sandler/
CATEGORIES:VanAndel Arena
END:VEVENT
BEGIN:VEVENT
DTSTART;VALUE=DATE:20251001
DTEND;VALUE=DATE:20251002
DTSTAMP:20260420T133032
CREATED:20250303T043622Z
LAST-MODIFIED:20250303T043622Z
UID:10004129-1759276800-1759363199@www.iatse26.org
SUMMARY:Lumineers
DESCRIPTION:
URL:https://www.iatse26.org/event/lumineers/
CATEGORIES:VanAndel Arena
END:VEVENT
BEGIN:VEVENT
DTSTART;VALUE=DATE:20250928
DTEND;VALUE=DATE:20251002
DTSTAMP:20260420T133032
CREATED:20250919T183640Z
LAST-MODIFIED:20250919T183640Z
UID:10004373-1759017600-1759363199@www.iatse26.org
SUMMARY:DigiCo
DESCRIPTION:
URL:https://www.iatse26.org/event/digico/
CATEGORIES:DeVos Place
END:VEVENT
BEGIN:VEVENT
DTSTART;VALUE=DATE:20250928
DTEND;VALUE=DATE:20251002
DTSTAMP:20260420T133032
CREATED:20241126T162624Z
LAST-MODIFIED:20241126T162624Z
UID:10003937-1759017600-1759363199@www.iatse26.org
SUMMARY:High Ed
DESCRIPTION:
URL:https://www.iatse26.org/event/high-ed/
CATEGORIES:DeVos Place
END:VEVENT
BEGIN:VEVENT
DTSTART;VALUE=DATE:20250927
DTEND;VALUE=DATE:20250929
DTSTAMP:20260420T133032
CREATED:20250919T183409Z
LAST-MODIFIED:20250919T183409Z
UID:10004372-1758931200-1759103999@www.iatse26.org
SUMMARY:Brickworld
DESCRIPTION:
URL:https://www.iatse26.org/event/brickworld/
CATEGORIES:DeVos Place
END:VEVENT
BEGIN:VEVENT
DTSTART;VALUE=DATE:20250927
DTEND;VALUE=DATE:20250928
DTSTAMP:20260420T133032
CREATED:20250201T000659Z
LAST-MODIFIED:20250201T000659Z
UID:10004099-1758931200-1759017599@www.iatse26.org
SUMMARY:Lainey Wilson
DESCRIPTION:
URL:https://www.iatse26.org/event/lainey-wilson/
CATEGORIES:VanAndel Arena
END:VEVENT
BEGIN:VEVENT
DTSTART;VALUE=DATE:20250926
DTEND;VALUE=DATE:20250928
DTSTAMP:20260420T133032
CREATED:20250502T011433Z
LAST-MODIFIED:20250502T011433Z
UID:10004263-1758844800-1759017599@www.iatse26.org
SUMMARY:GRS
DESCRIPTION:
URL:https://www.iatse26.org/event/grs-3/
CATEGORIES:DeVos Hall
END:VEVENT
BEGIN:VEVENT
DTSTART;VALUE=DATE:20250925
DTEND;VALUE=DATE:20250926
DTSTAMP:20260420T133032
CREATED:20190712T161514Z
LAST-MODIFIED:20240329T181632Z
UID:10004034-1758758400-1758844799@www.iatse26.org
SUMMARY:IATSE Local 26 General Membership Meeting
DESCRIPTION:Monthly meeting for IATSE Local 26 cardholders and invited guests
URL:https://www.iatse26.org/event/iatse-local-26-general-membership-meeting-2-2023-11-30/2025-09-25/
LOCATION:IATSE Local 26\, 931 Bridge St NW\, Grand Rapids\, MI 49504\, USA\, 201 Bridge St NW\, Grand Rapids\, MI\, United States
CATEGORIES:Uncategorized
GEO:42.97078;-85.672772
X-APPLE-STRUCTURED-LOCATION;VALUE=URI;X-ADDRESS=IATSE Local 26 931 Bridge St NW Grand Rapids MI 49504 USA 201 Bridge St NW Grand Rapids MI United States;X-APPLE-RADIUS=500;X-TITLE=201 Bridge St NW:geo:-85.672772,42.97078
END:VEVENT
BEGIN:VEVENT
DTSTART;VALUE=DATE:20250924
DTEND;VALUE=DATE:20250928
DTSTAMP:20260420T133032
CREATED:20241126T162433Z
LAST-MODIFIED:20241126T162433Z
UID:10003936-1758672000-1759017599@www.iatse26.org
SUMMARY:Amway NPC
DESCRIPTION:
URL:https://www.iatse26.org/event/amway-npc/
CATEGORIES:DeVos Place
END:VEVENT
BEGIN:VEVENT
DTSTART;VALUE=DATE:20250921
DTEND;VALUE=DATE:20250922
DTSTAMP:20260420T133032
CREATED:20250306T192153Z
LAST-MODIFIED:20250306T192153Z
UID:10004148-1758412800-1758499199@www.iatse26.org
SUMMARY:Red Wings
DESCRIPTION:
URL:https://www.iatse26.org/event/red-wings/
CATEGORIES:VanAndel Arena
END:VEVENT
BEGIN:VEVENT
DTSTART;VALUE=DATE:20250920
DTEND;VALUE=DATE:20250925
DTSTAMP:20260420T133032
CREATED:20241126T162233Z
LAST-MODIFIED:20241126T162233Z
UID:10003935-1758326400-1758758399@www.iatse26.org
SUMMARY:SAE
DESCRIPTION:
URL:https://www.iatse26.org/event/sae-2/
CATEGORIES:DeVos Place
END:VEVENT
BEGIN:VEVENT
DTSTART;VALUE=DATE:20250920
DTEND;VALUE=DATE:20250921
DTSTAMP:20260420T133032
CREATED:20250605T040138Z
LAST-MODIFIED:20250605T040138Z
UID:10004288-1758326400-1758412799@www.iatse26.org
SUMMARY:Quinn XCII
DESCRIPTION:
URL:https://www.iatse26.org/event/quinn-xcii/
CATEGORIES:VanAndel Arena
END:VEVENT
END:VCALENDAR