BEGIN:VCALENDAR
VERSION:2.0
PRODID:-//IATSE 26 - ECPv6.14.2//NONSGML v1.0//EN
CALSCALE:GREGORIAN
METHOD:PUBLISH
X-ORIGINAL-URL:https://www.iatse26.org
X-WR-CALDESC:Events for IATSE 26
REFRESH-INTERVAL;VALUE=DURATION:PT1H
X-Robots-Tag:noindex
X-PUBLISHED-TTL:PT1H
BEGIN:VTIMEZONE
TZID:America/Detroit
BEGIN:DAYLIGHT
TZOFFSETFROM:-0500
TZOFFSETTO:-0400
TZNAME:EDT
DTSTART:20250309T070000
END:DAYLIGHT
BEGIN:STANDARD
TZOFFSETFROM:-0400
TZOFFSETTO:-0500
TZNAME:EST
DTSTART:20251102T060000
END:STANDARD
END:VTIMEZONE
BEGIN:VEVENT
DTSTART;VALUE=DATE:20251020
DTEND;VALUE=DATE:20251027
DTSTAMP:20260420T134837
CREATED:20251009T220648Z
LAST-MODIFIED:20251009T220648Z
UID:10004433-1760918400-1761523199@www.iatse26.org
SUMMARY:Sherlock
DESCRIPTION:
URL:https://www.iatse26.org/event/sherlock/
CATEGORIES:Ballet @ PMW
END:VEVENT
BEGIN:VEVENT
DTSTART;VALUE=DATE:20251024
DTEND;VALUE=DATE:20251025
DTSTAMP:20260420T134837
CREATED:20250913T181531Z
LAST-MODIFIED:20250913T181531Z
UID:10004346-1761264000-1761350399@www.iatse26.org
SUMMARY:Griffin's
DESCRIPTION:
URL:https://www.iatse26.org/event/griffins-9/
CATEGORIES:VanAndel Arena
END:VEVENT
BEGIN:VEVENT
DTSTART;VALUE=DATE:20251024
DTEND;VALUE=DATE:20251026
DTSTAMP:20260420T134837
CREATED:20250502T012331Z
LAST-MODIFIED:20250502T012331Z
UID:10004266-1761264000-1761436799@www.iatse26.org
SUMMARY:GRS
DESCRIPTION:
URL:https://www.iatse26.org/event/grs-18/
CATEGORIES:DeVos Hall
END:VEVENT
BEGIN:VEVENT
DTSTART;VALUE=DATE:20251025
DTEND;VALUE=DATE:20251026
DTSTAMP:20260420T134837
CREATED:20250605T040419Z
LAST-MODIFIED:20251027T153801Z
UID:10004289-1761350400-1761436799@www.iatse26.org
SUMMARY:Upchurch/Canceled
DESCRIPTION:
URL:https://www.iatse26.org/event/upchurch/
CATEGORIES:VanAndel Arena
END:VEVENT
BEGIN:VEVENT
DTSTART;VALUE=DATE:20251026
DTEND;VALUE=DATE:20251027
DTSTAMP:20260420T134837
CREATED:20250502T012653Z
LAST-MODIFIED:20250502T012653Z
UID:10004268-1761436800-1761523199@www.iatse26.org
SUMMARY:Mania
DESCRIPTION:
URL:https://www.iatse26.org/event/mania/
CATEGORIES:DeVos Hall
END:VEVENT
BEGIN:VEVENT
DTSTART;VALUE=DATE:20251027
DTEND;VALUE=DATE:20251028
DTSTAMP:20260420T134837
CREATED:20250919T173812Z
LAST-MODIFIED:20250919T173812Z
UID:10004361-1761523200-1761609599@www.iatse26.org
SUMMARY:Vampire Circus
DESCRIPTION:
URL:https://www.iatse26.org/event/vampire-circus-2/
CATEGORIES:DeVos Hall
END:VEVENT
BEGIN:VEVENT
DTSTART;VALUE=DATE:20251028
DTEND;VALUE=DATE:20251029
DTSTAMP:20260420T134837
CREATED:20250820T154051Z
LAST-MODIFIED:20250820T154051Z
UID:10004328-1761609600-1761695999@www.iatse26.org
SUMMARY:Vampire Circus
DESCRIPTION:
URL:https://www.iatse26.org/event/vampire-circus/
CATEGORIES:Miller Auditorium
END:VEVENT
BEGIN:VEVENT
DTSTART;VALUE=DATE:20251030
DTEND;VALUE=DATE:20251031
DTSTAMP:20260420T134837
CREATED:20190712T161514Z
LAST-MODIFIED:20240329T181632Z
UID:10004035-1761782400-1761868799@www.iatse26.org
SUMMARY:IATSE Local 26 General Membership Meeting
DESCRIPTION:Monthly meeting for IATSE Local 26 cardholders and invited guests
URL:https://www.iatse26.org/event/iatse-local-26-general-membership-meeting-2-2023-11-30/2025-10-30/
LOCATION:IATSE Local 26\, 931 Bridge St NW\, Grand Rapids\, MI 49504\, USA\, 201 Bridge St NW\, Grand Rapids\, MI\, United States
CATEGORIES:Uncategorized
GEO:42.97078;-85.672772
X-APPLE-STRUCTURED-LOCATION;VALUE=URI;X-ADDRESS=IATSE Local 26 931 Bridge St NW Grand Rapids MI 49504 USA 201 Bridge St NW Grand Rapids MI United States;X-APPLE-RADIUS=500;X-TITLE=201 Bridge St NW:geo:-85.672772,42.97078
END:VEVENT
BEGIN:VEVENT
DTSTART;VALUE=DATE:20251030
DTEND;VALUE=DATE:20251110
DTSTAMP:20260420T134837
CREATED:20250820T155449Z
LAST-MODIFIED:20250820T155449Z
UID:10004329-1761782400-1762732799@www.iatse26.org
SUMMARY:Grinch
DESCRIPTION:
URL:https://www.iatse26.org/event/grinch/
CATEGORIES:Miller Auditorium
END:VEVENT
BEGIN:VEVENT
DTSTART;VALUE=DATE:20251031
DTEND;VALUE=DATE:20251102
DTSTAMP:20260420T134837
CREATED:20250502T012533Z
LAST-MODIFIED:20250502T012533Z
UID:10004267-1761868800-1762041599@www.iatse26.org
SUMMARY:GRS
DESCRIPTION:
URL:https://www.iatse26.org/event/grs-19/
CATEGORIES:DeVos Hall
END:VEVENT
BEGIN:VEVENT
DTSTART;VALUE=DATE:20251101
DTEND;VALUE=DATE:20251103
DTSTAMP:20260420T134837
CREATED:20251009T221931Z
LAST-MODIFIED:20251009T221931Z
UID:10004434-1761955200-1762127999@www.iatse26.org
SUMMARY:Sherlock
DESCRIPTION:
URL:https://www.iatse26.org/event/sherlock-2/
CATEGORIES:Ballet @ PMW
END:VEVENT
BEGIN:VEVENT
DTSTART;VALUE=DATE:20251101
DTEND;VALUE=DATE:20251104
DTSTAMP:20260420T134837
CREATED:20251027T153635Z
LAST-MODIFIED:20251027T154059Z
UID:10004445-1761955200-1762214399@www.iatse26.org
SUMMARY:KA Bronson
DESCRIPTION:
URL:https://www.iatse26.org/event/ka-bronson/
CATEGORIES:Uncategorized
END:VEVENT
BEGIN:VEVENT
DTSTART;VALUE=DATE:20251102
DTEND;VALUE=DATE:20251103
DTSTAMP:20260420T134837
CREATED:20250913T181901Z
LAST-MODIFIED:20250913T181901Z
UID:10004347-1762041600-1762127999@www.iatse26.org
SUMMARY:Griffin's
DESCRIPTION:
URL:https://www.iatse26.org/event/griffins-10/
CATEGORIES:VanAndel Arena
END:VEVENT
BEGIN:VEVENT
DTSTART;VALUE=DATE:20251103
DTEND;VALUE=DATE:20251104
DTSTAMP:20260420T134837
CREATED:20251102T001243Z
LAST-MODIFIED:20251102T001243Z
UID:10004448-1762128000-1762214399@www.iatse26.org
SUMMARY:Changeover
DESCRIPTION:
URL:https://www.iatse26.org/event/changeover/
CATEGORIES:VanAndel Arena
END:VEVENT
BEGIN:VEVENT
DTSTART;VALUE=DATE:20251104
DTEND;VALUE=DATE:20251105
DTSTAMP:20260420T134837
CREATED:20250624T193134Z
LAST-MODIFIED:20250624T193134Z
UID:10004303-1762214400-1762300799@www.iatse26.org
SUMMARY:A Day to Remember
DESCRIPTION:
URL:https://www.iatse26.org/event/a-day-to-remember-3/
CATEGORIES:VanAndel Arena
END:VEVENT
BEGIN:VEVENT
DTSTART;VALUE=DATE:20251104
DTEND;VALUE=DATE:20251109
DTSTAMP:20260420T134837
CREATED:20251104T125914Z
LAST-MODIFIED:20251104T125914Z
UID:10004456-1762214400-1762646399@www.iatse26.org
SUMMARY:CCDA
DESCRIPTION:
URL:https://www.iatse26.org/event/ccda-2/
CATEGORIES:DeVos Place
END:VEVENT
BEGIN:VEVENT
DTSTART;VALUE=DATE:20251104
DTEND;VALUE=DATE:20251110
DTSTAMP:20260420T134837
CREATED:20250306T195645Z
LAST-MODIFIED:20250306T195645Z
UID:10004150-1762214400-1762732799@www.iatse26.org
SUMMARY:Book of Mormon
DESCRIPTION:
URL:https://www.iatse26.org/event/book-of-mormon/
CATEGORIES:DeVos Hall
END:VEVENT
BEGIN:VEVENT
DTSTART;VALUE=DATE:20251105
DTEND;VALUE=DATE:20251107
DTSTAMP:20260420T134837
CREATED:20250502T001853Z
LAST-MODIFIED:20250920T211552Z
UID:10004380-1762300800-1762473599@www.iatse26.org
SUMMARY:Riley Green
DESCRIPTION:
URL:https://www.iatse26.org/event/riley-green/
CATEGORIES:VanAndel Arena
END:VEVENT
BEGIN:VEVENT
DTSTART;VALUE=DATE:20251105
DTEND;VALUE=DATE:20251109
DTSTAMP:20260420T134837
CREATED:20241126T163906Z
LAST-MODIFIED:20241126T163906Z
UID:10003941-1762300800-1762646399@www.iatse26.org
SUMMARY:CCDA
DESCRIPTION:
URL:https://www.iatse26.org/event/ccda/
CATEGORIES:DeVos Place
END:VEVENT
BEGIN:VEVENT
DTSTART;VALUE=DATE:20251106
DTEND;VALUE=DATE:20251107
DTSTAMP:20260420T134837
CREATED:20251103T183333Z
LAST-MODIFIED:20251103T183333Z
UID:10004451-1762387200-1762473599@www.iatse26.org
SUMMARY:Changeover
DESCRIPTION:
URL:https://www.iatse26.org/event/changeover-2/
CATEGORIES:VanAndel Arena
END:VEVENT
BEGIN:VEVENT
DTSTART;VALUE=DATE:20251107
DTEND;VALUE=DATE:20251108
DTSTAMP:20260420T134837
CREATED:20250920T155739Z
LAST-MODIFIED:20250920T155739Z
UID:10004378-1762473600-1762559999@www.iatse26.org
SUMMARY:Gold
DESCRIPTION:
URL:https://www.iatse26.org/event/gold/
CATEGORIES:VanAndel Arena
END:VEVENT
BEGIN:VEVENT
DTSTART;VALUE=DATE:20251107
DTEND;VALUE=DATE:20251108
DTSTAMP:20260420T134837
CREATED:20251103T183447Z
LAST-MODIFIED:20251103T183447Z
UID:10004452-1762473600-1762559999@www.iatse26.org
SUMMARY:Changeover
DESCRIPTION:
URL:https://www.iatse26.org/event/changeover-6/
CATEGORIES:VanAndel Arena
END:VEVENT
BEGIN:VEVENT
DTSTART;VALUE=DATE:20251108
DTEND;VALUE=DATE:20251109
DTSTAMP:20260420T134837
CREATED:20241126T164017Z
LAST-MODIFIED:20241126T164017Z
UID:10003942-1762560000-1762646399@www.iatse26.org
SUMMARY:Mary Free Bed
DESCRIPTION:
URL:https://www.iatse26.org/event/mary-free-bed-2/
CATEGORIES:DeVos Place
END:VEVENT
BEGIN:VEVENT
DTSTART;VALUE=DATE:20251108
DTEND;VALUE=DATE:20251109
DTSTAMP:20260420T134837
CREATED:20250406T184146Z
LAST-MODIFIED:20250406T184146Z
UID:10004182-1762560000-1762646399@www.iatse26.org
SUMMARY:Katt Williams
DESCRIPTION:
URL:https://www.iatse26.org/event/katt-williams/
CATEGORIES:VanAndel Arena
END:VEVENT
BEGIN:VEVENT
DTSTART;VALUE=DATE:20251109
DTEND;VALUE=DATE:20251110
DTSTAMP:20260420T134837
CREATED:20241126T133713Z
LAST-MODIFIED:20241126T133713Z
UID:10003907-1762646400-1762732799@www.iatse26.org
SUMMARY:Matt Rife
DESCRIPTION:
URL:https://www.iatse26.org/event/matt-rife-2/
CATEGORIES:VanAndel Arena
END:VEVENT
BEGIN:VEVENT
DTSTART;VALUE=DATE:20251109
DTEND;VALUE=DATE:20251110
DTSTAMP:20260420T134837
CREATED:20251103T183619Z
LAST-MODIFIED:20251103T183619Z
UID:10004453-1762646400-1762732799@www.iatse26.org
SUMMARY:Changeover
DESCRIPTION:
URL:https://www.iatse26.org/event/changeover-7/
CATEGORIES:VanAndel Arena
END:VEVENT
BEGIN:VEVENT
DTSTART;VALUE=DATE:20251110
DTEND;VALUE=DATE:20251111
DTSTAMP:20260420T134837
CREATED:20250517T140835Z
LAST-MODIFIED:20250517T140835Z
UID:10004280-1762732800-1762819199@www.iatse26.org
SUMMARY:Gabby's Dollhouse
DESCRIPTION:
URL:https://www.iatse26.org/event/gabbys-dollhouse/
CATEGORIES:DeVos Hall
END:VEVENT
BEGIN:VEVENT
DTSTART;VALUE=DATE:20251110
DTEND;VALUE=DATE:20251111
DTSTAMP:20260420T134837
CREATED:20251104T130208Z
LAST-MODIFIED:20251104T130208Z
UID:10004457-1762732800-1762819199@www.iatse26.org
SUMMARY:Marine's 250
DESCRIPTION:
URL:https://www.iatse26.org/event/marines-250/
CATEGORIES:DeVos Place
END:VEVENT
BEGIN:VEVENT
DTSTART;VALUE=DATE:20251111
DTEND;VALUE=DATE:20251112
DTSTAMP:20260420T134837
CREATED:20251104T235827Z
LAST-MODIFIED:20251104T235927Z
UID:10004462-1762819200-1762905599@www.iatse26.org
SUMMARY:GRB @ KROC
DESCRIPTION:
URL:https://www.iatse26.org/event/grb-kroc/
CATEGORIES:Ballet Run Out
END:VEVENT
BEGIN:VEVENT
DTSTART;VALUE=DATE:20251111
DTEND;VALUE=DATE:20251112
DTSTAMP:20260420T134837
CREATED:20190501T162910Z
LAST-MODIFIED:20190617T162939Z
UID:10003985-1762819200-1762905599@www.iatse26.org
SUMMARY:Veterans Day
DESCRIPTION:
URL:https://www.iatse26.org/event/veterans-day-2/2025-11-11/
CATEGORIES:Uncategorized
END:VEVENT
END:VCALENDAR