BEGIN:VCALENDAR
VERSION:2.0
PRODID:-//IATSE 26 - ECPv6.14.2//NONSGML v1.0//EN
CALSCALE:GREGORIAN
METHOD:PUBLISH
X-ORIGINAL-URL:https://www.iatse26.org
X-WR-CALDESC:Events for IATSE 26
REFRESH-INTERVAL;VALUE=DURATION:PT1H
X-Robots-Tag:noindex
X-PUBLISHED-TTL:PT1H
BEGIN:VTIMEZONE
TZID:America/Detroit
BEGIN:DAYLIGHT
TZOFFSETFROM:-0500
TZOFFSETTO:-0400
TZNAME:EDT
DTSTART:20260308T070000
END:DAYLIGHT
BEGIN:STANDARD
TZOFFSETFROM:-0400
TZOFFSETTO:-0500
TZNAME:EST
DTSTART:20261101T060000
END:STANDARD
END:VTIMEZONE
BEGIN:VEVENT
DTSTART;VALUE=DATE:20260403
DTEND;VALUE=DATE:20260428
DTSTAMP:20260424T102657
CREATED:20250306T200256Z
LAST-MODIFIED:20260323T033545Z
UID:10004153-1775174400-1777334399@www.iatse26.org
SUMMARY:Lion King
DESCRIPTION:
URL:https://www.iatse26.org/event/lion-king-2/
CATEGORIES:DeVos Hall
END:VEVENT
BEGIN:VEVENT
DTSTART;VALUE=DATE:20260423
DTEND;VALUE=DATE:20260427
DTSTAMP:20260424T102657
CREATED:20251108T010131Z
LAST-MODIFIED:20251108T010131Z
UID:10004505-1776902400-1777247999@www.iatse26.org
SUMMARY:Volleyfest
DESCRIPTION:
URL:https://www.iatse26.org/event/volleyfest-2/
CATEGORIES:DeVos Place
END:VEVENT
BEGIN:VEVENT
DTSTART;VALUE=DATE:20260427
DTEND;VALUE=DATE:20260429
DTSTAMP:20260424T102657
CREATED:20251108T010317Z
LAST-MODIFIED:20251108T010355Z
UID:10004506-1777248000-1777420799@www.iatse26.org
SUMMARY:NACAC
DESCRIPTION:
URL:https://www.iatse26.org/event/nacac/
CATEGORIES:DeVos Place
END:VEVENT
BEGIN:VEVENT
DTSTART;VALUE=DATE:20260427
DTEND;VALUE=DATE:20260429
DTSTAMP:20260424T102657
CREATED:20251108T010635Z
LAST-MODIFIED:20251108T010635Z
UID:10004507-1777248000-1777420799@www.iatse26.org
SUMMARY:ROPA
DESCRIPTION:
URL:https://www.iatse26.org/event/ropa/
CATEGORIES:DeVos Place
END:VEVENT
BEGIN:VEVENT
DTSTART;VALUE=DATE:20260428
DTEND;VALUE=DATE:20260502
DTSTAMP:20260424T102657
CREATED:20260416T165817Z
LAST-MODIFIED:20260416T165817Z
UID:10004772-1777334400-1777679999@www.iatse26.org
SUMMARY:T-Rex Strike
DESCRIPTION:
URL:https://www.iatse26.org/event/t-rex-strike/
CATEGORIES:Uncategorized
END:VEVENT
BEGIN:VEVENT
DTSTART;VALUE=DATE:20260428
DTEND;VALUE=DATE:20260504
DTSTAMP:20260424T102657
CREATED:20251108T010754Z
LAST-MODIFIED:20251108T010754Z
UID:10004508-1777334400-1777852799@www.iatse26.org
SUMMARY:Dental
DESCRIPTION:
URL:https://www.iatse26.org/event/dental/
CATEGORIES:DeVos Place
END:VEVENT
BEGIN:VEVENT
DTSTART;VALUE=DATE:20260429
DTEND;VALUE=DATE:20260501
DTSTAMP:20260424T102657
CREATED:20251203T204858Z
LAST-MODIFIED:20251203T204858Z
UID:10004527-1777420800-1777593599@www.iatse26.org
SUMMARY:GRCC Graduation
DESCRIPTION:
URL:https://www.iatse26.org/event/grcc-graduation/
CATEGORIES:VanAndel Arena
END:VEVENT
BEGIN:VEVENT
DTSTART;VALUE=DATE:20260430
DTEND;VALUE=DATE:20260501
DTSTAMP:20260424T102657
CREATED:20190712T161514Z
LAST-MODIFIED:20240329T181632Z
UID:10004041-1777507200-1777593599@www.iatse26.org
SUMMARY:IATSE Local 26 General Membership Meeting
DESCRIPTION:Monthly meeting for IATSE Local 26 cardholders and invited guests
URL:https://www.iatse26.org/event/iatse-local-26-general-membership-meeting-2-2023-11-30/2026-04-30/
LOCATION:IATSE Local 26\, 931 Bridge St NW\, Grand Rapids\, MI 49504\, USA\, 201 Bridge St NW\, Grand Rapids\, MI\, United States
CATEGORIES:Uncategorized
GEO:42.97078;-85.672772
X-APPLE-STRUCTURED-LOCATION;VALUE=URI;X-ADDRESS=IATSE Local 26 931 Bridge St NW Grand Rapids MI 49504 USA 201 Bridge St NW Grand Rapids MI United States;X-APPLE-RADIUS=500;X-TITLE=201 Bridge St NW:geo:-85.672772,42.97078
END:VEVENT
BEGIN:VEVENT
DTSTART;VALUE=DATE:20260501
DTEND;VALUE=DATE:20260503
DTSTAMP:20260424T102657
CREATED:20251203T205111Z
LAST-MODIFIED:20251203T205111Z
UID:10004528-1777593600-1777766399@www.iatse26.org
SUMMARY:GVSU Graduation
DESCRIPTION:
URL:https://www.iatse26.org/event/gvsu-graduation/
CATEGORIES:VanAndel Arena
END:VEVENT
BEGIN:VEVENT
DTSTART;VALUE=DATE:20260501
DTEND;VALUE=DATE:20260503
DTSTAMP:20260424T102657
CREATED:20260323T032420Z
LAST-MODIFIED:20260323T032420Z
UID:10004684-1777593600-1777766399@www.iatse26.org
SUMMARY:Davenport EIB
DESCRIPTION:
URL:https://www.iatse26.org/event/davenport-eib/
CATEGORIES:DeVos Place
END:VEVENT
BEGIN:VEVENT
DTSTART;TZID=America/Detroit:20260501T080000
DTEND;TZID=America/Detroit:20260502T170000
DTSTAMP:20260424T102657
CREATED:20250919T180242Z
LAST-MODIFIED:20250919T180242Z
UID:10004366-1777622400-1777741200@www.iatse26.org
SUMMARY:GRS
DESCRIPTION:
URL:https://www.iatse26.org/event/grs-6/
CATEGORIES:DeVos Hall
END:VEVENT
BEGIN:VEVENT
DTSTART;VALUE=DATE:20260503
DTEND;VALUE=DATE:20260504
DTSTAMP:20260424T102657
CREATED:20251203T205318Z
LAST-MODIFIED:20251203T205318Z
UID:10004529-1777766400-1777852799@www.iatse26.org
SUMMARY:Davenport Graduation
DESCRIPTION:
URL:https://www.iatse26.org/event/davenport-graduation/
CATEGORIES:VanAndel Arena
END:VEVENT
BEGIN:VEVENT
DTSTART;VALUE=DATE:20260503
DTEND;VALUE=DATE:20260504
DTSTAMP:20260424T102657
CREATED:20251203T220452Z
LAST-MODIFIED:20251203T220520Z
UID:10004550-1777766400-1777852799@www.iatse26.org
SUMMARY:Dog Man the Musical
DESCRIPTION:
URL:https://www.iatse26.org/event/dog-man-the-musical/
CATEGORIES:DeVos Hall
END:VEVENT
BEGIN:VEVENT
DTSTART;VALUE=DATE:20260503
DTEND;VALUE=DATE:20260507
DTSTAMP:20260424T102657
CREATED:20260412T163941Z
LAST-MODIFIED:20260412T163941Z
UID:10004749-1777766400-1778111999@www.iatse26.org
SUMMARY:Nestle
DESCRIPTION:
URL:https://www.iatse26.org/event/nestle/
CATEGORIES:DeVos Place
END:VEVENT
BEGIN:VEVENT
DTSTART;VALUE=DATE:20260503
DTEND;VALUE=DATE:20260508
DTSTAMP:20260424T102657
CREATED:20260412T163826Z
LAST-MODIFIED:20260412T163826Z
UID:10004748-1777766400-1778198399@www.iatse26.org
SUMMARY:Homeland Training
DESCRIPTION:
URL:https://www.iatse26.org/event/homeland-training/
CATEGORIES:DeVos Place
END:VEVENT
BEGIN:VEVENT
DTSTART;VALUE=DATE:20260504
DTEND;VALUE=DATE:20260507
DTSTAMP:20260424T102657
CREATED:20260416T170123Z
LAST-MODIFIED:20260416T170123Z
UID:10004773-1777852800-1778111999@www.iatse26.org
SUMMARY:T-Rex Strike
DESCRIPTION:
URL:https://www.iatse26.org/event/t-rex-strike-2/
CATEGORIES:Uncategorized
END:VEVENT
BEGIN:VEVENT
DTSTART;VALUE=DATE:20260506
DTEND;VALUE=DATE:20260509
DTSTAMP:20260424T102657
CREATED:20260412T164045Z
LAST-MODIFIED:20260412T164045Z
UID:10004750-1778025600-1778284799@www.iatse26.org
SUMMARY:Youth Summit
DESCRIPTION:
URL:https://www.iatse26.org/event/youth-summit/
CATEGORIES:DeVos Place
END:VEVENT
BEGIN:VEVENT
DTSTART;VALUE=DATE:20260508
DTEND;VALUE=DATE:20260509
DTSTAMP:20260424T102657
CREATED:20260412T150832Z
LAST-MODIFIED:20260412T150832Z
UID:10004739-1778198400-1778284799@www.iatse26.org
SUMMARY:Wish Ball
DESCRIPTION:
URL:https://www.iatse26.org/event/wish-ball/
CATEGORIES:DeVos Place
END:VEVENT
BEGIN:VEVENT
DTSTART;VALUE=DATE:20260508
DTEND;VALUE=DATE:20260510
DTSTAMP:20260424T102657
CREATED:20250919T180049Z
LAST-MODIFIED:20250919T180049Z
UID:10004365-1778198400-1778371199@www.iatse26.org
SUMMARY:GRS
DESCRIPTION:
URL:https://www.iatse26.org/event/grs-5/
CATEGORIES:DeVos Hall
END:VEVENT
BEGIN:VEVENT
DTSTART;VALUE=DATE:20260508
DTEND;VALUE=DATE:20260510
DTSTAMP:20260424T102657
CREATED:20260412T151609Z
LAST-MODIFIED:20260412T151609Z
UID:10004740-1778198400-1778371199@www.iatse26.org
SUMMARY:River Bank Run
DESCRIPTION:
URL:https://www.iatse26.org/event/river-bank-run/
CATEGORIES:DeVos Place
END:VEVENT
BEGIN:VEVENT
DTSTART;VALUE=DATE:20260508
DTEND;VALUE=DATE:20260511
DTSTAMP:20260424T102657
CREATED:20250913T174742Z
LAST-MODIFIED:20250913T174742Z
UID:10004344-1778198400-1778457599@www.iatse26.org
SUMMARY:Beetlejuice
DESCRIPTION:
URL:https://www.iatse26.org/event/beetlejuice/
CATEGORIES:Miller Auditorium
END:VEVENT
BEGIN:VEVENT
DTSTART;VALUE=DATE:20260509
DTEND;VALUE=DATE:20260510
DTSTAMP:20260424T102657
CREATED:20260412T151903Z
LAST-MODIFIED:20260412T151903Z
UID:10004741-1778284800-1778371199@www.iatse26.org
SUMMARY:Tequila Fest
DESCRIPTION:
URL:https://www.iatse26.org/event/tequila-fest/
CATEGORIES:DeVos Place
END:VEVENT
BEGIN:VEVENT
DTSTART;VALUE=DATE:20260509
DTEND;VALUE=DATE:20260513
DTSTAMP:20260424T102657
CREATED:20260412T164151Z
LAST-MODIFIED:20260412T164254Z
UID:10004751-1778284800-1778630399@www.iatse26.org
SUMMARY:GVSU
DESCRIPTION:
URL:https://www.iatse26.org/event/gvsu-3/
CATEGORIES:DeVos Place
END:VEVENT
BEGIN:VEVENT
DTSTART;VALUE=DATE:20260510
DTEND;VALUE=DATE:20260511
DTSTAMP:20260424T102657
CREATED:20190501T162626Z
LAST-MODIFIED:20190617T163503Z
UID:10003966-1778371200-1778457599@www.iatse26.org
SUMMARY:Mother's Day
DESCRIPTION:
URL:https://www.iatse26.org/event/mothers-day-2/2026-05-10/
CATEGORIES:Uncategorized
END:VEVENT
BEGIN:VEVENT
DTSTART;VALUE=DATE:20260510
DTEND;VALUE=DATE:20260518
DTSTAMP:20260424T102657
CREATED:20260412T163533Z
LAST-MODIFIED:20260412T163533Z
UID:10004747-1778371200-1779062399@www.iatse26.org
SUMMARY:Corwell
DESCRIPTION:
URL:https://www.iatse26.org/event/corwell/
CATEGORIES:DeVos Place
END:VEVENT
BEGIN:VEVENT
DTSTART;VALUE=DATE:20260511
DTEND;VALUE=DATE:20260517
DTSTAMP:20260424T102657
CREATED:20250919T175720Z
LAST-MODIFIED:20250919T175720Z
UID:10004364-1778457600-1778975999@www.iatse26.org
SUMMARY:OGR
DESCRIPTION:
URL:https://www.iatse26.org/event/ogr/
CATEGORIES:DeVos Hall
END:VEVENT
BEGIN:VEVENT
DTSTART;VALUE=DATE:20260514
DTEND;VALUE=DATE:20260515
DTSTAMP:20260424T102657
CREATED:20260412T152008Z
LAST-MODIFIED:20260412T152008Z
UID:10004742-1778716800-1778803199@www.iatse26.org
SUMMARY:AAWM
DESCRIPTION:
URL:https://www.iatse26.org/event/aawm/
CATEGORIES:DeVos Place
END:VEVENT
BEGIN:VEVENT
DTSTART;VALUE=DATE:20260514
DTEND;VALUE=DATE:20260516
DTSTAMP:20260424T102657
CREATED:20260412T164836Z
LAST-MODIFIED:20260412T164836Z
UID:10004752-1778716800-1778889599@www.iatse26.org
SUMMARY:Lincoln Day Dinner
DESCRIPTION:
URL:https://www.iatse26.org/event/lincoln-day-dinner/
CATEGORIES:DeVos Place
END:VEVENT
BEGIN:VEVENT
DTSTART;VALUE=DATE:20260515
DTEND;VALUE=DATE:20260516
DTSTAMP:20260424T102657
CREATED:20251009T233036Z
LAST-MODIFIED:20251009T233036Z
UID:10004438-1778803200-1778889599@www.iatse26.org
SUMMARY:Phil Wickham
DESCRIPTION:
URL:https://www.iatse26.org/event/phil-wickham/
CATEGORIES:VanAndel Arena
END:VEVENT
BEGIN:VEVENT
DTSTART;VALUE=DATE:20260515
DTEND;VALUE=DATE:20260516
DTSTAMP:20260424T102657
CREATED:20251203T201830Z
LAST-MODIFIED:20251203T201830Z
UID:10004521-1778803200-1778889599@www.iatse26.org
SUMMARY:Lionel Richie
DESCRIPTION:
URL:https://www.iatse26.org/event/lionel-richie/
END:VEVENT
END:VCALENDAR