BEGIN:VCALENDAR
VERSION:2.0
PRODID:-//IATSE 26 - ECPv6.14.2//NONSGML v1.0//EN
CALSCALE:GREGORIAN
METHOD:PUBLISH
X-WR-CALNAME:IATSE 26
X-ORIGINAL-URL:https://www.iatse26.org
X-WR-CALDESC:Events for IATSE 26
REFRESH-INTERVAL;VALUE=DURATION:PT1H
X-Robots-Tag:noindex
X-PUBLISHED-TTL:PT1H
BEGIN:VTIMEZONE
TZID:America/Detroit
BEGIN:DAYLIGHT
TZOFFSETFROM:-0500
TZOFFSETTO:-0400
TZNAME:EDT
DTSTART:20250309T070000
END:DAYLIGHT
BEGIN:STANDARD
TZOFFSETFROM:-0400
TZOFFSETTO:-0500
TZNAME:EST
DTSTART:20251102T060000
END:STANDARD
END:VTIMEZONE
BEGIN:VEVENT
DTSTART;VALUE=DATE:20250906
DTEND;VALUE=DATE:20250907
DTSTAMP:20260420T181157
CREATED:20250803T211654Z
LAST-MODIFIED:20250803T211654Z
UID:10004319-1757116800-1757203199@www.iatse26.org
SUMMARY:Cole Swindell
DESCRIPTION:
URL:https://www.iatse26.org/event/cole-swindell/
CATEGORIES:Uncategorized
END:VEVENT
BEGIN:VEVENT
DTSTART;VALUE=DATE:20250906
DTEND;VALUE=DATE:20250907
DTSTAMP:20260420T181157
CREATED:20250303T182408Z
LAST-MODIFIED:20250502T005202Z
UID:10004140-1757116800-1757203199@www.iatse26.org
SUMMARY:Steve Martin and Martin Short
DESCRIPTION:
URL:https://www.iatse26.org/event/kidz-bop-live/
CATEGORIES:DeVos Hall
END:VEVENT
BEGIN:VEVENT
DTSTART;VALUE=DATE:20250905
DTEND;VALUE=DATE:20250906
DTSTAMP:20260420T181157
CREATED:20250803T211504Z
LAST-MODIFIED:20250803T211504Z
UID:10004318-1757030400-1757116799@www.iatse26.org
SUMMARY:Dunham & Iglesias
DESCRIPTION:
URL:https://www.iatse26.org/event/dunham-iglesias/
CATEGORIES:Uncategorized
END:VEVENT
BEGIN:VEVENT
DTSTART;VALUE=DATE:20250905
DTEND;VALUE=DATE:20250906
DTSTAMP:20260420T181157
CREATED:20250419T192729Z
LAST-MODIFIED:20250419T192729Z
UID:10004231-1757030400-1757116799@www.iatse26.org
SUMMARY:Alison Krauss
DESCRIPTION:
URL:https://www.iatse26.org/event/alison-krauss/
CATEGORIES:Meijer Gardens
END:VEVENT
BEGIN:VEVENT
DTSTART;VALUE=DATE:20250904
DTEND;VALUE=DATE:20250905
DTSTAMP:20260420T181157
CREATED:20250419T192010Z
LAST-MODIFIED:20250419T192010Z
UID:10004230-1756944000-1757030399@www.iatse26.org
SUMMARY:Smokey Robinson
DESCRIPTION:
URL:https://www.iatse26.org/event/smokey-robinson/
CATEGORIES:Meijer Gardens
END:VEVENT
BEGIN:VEVENT
DTSTART;VALUE=DATE:20250904
DTEND;VALUE=DATE:20250905
DTSTAMP:20260420T181157
CREATED:20250130T214139Z
LAST-MODIFIED:20250814T174655Z
UID:10004098-1756944000-1757030399@www.iatse26.org
SUMMARY:Jason Aldean
DESCRIPTION:
URL:https://www.iatse26.org/event/jason-aldean/
CATEGORIES:VanAndel Arena
END:VEVENT
BEGIN:VEVENT
DTSTART;TZID=America/Detroit:20250903T160000
DTEND;TZID=America/Detroit:20250903T200000
DTSTAMP:20260420T181157
CREATED:20250817T171901Z
LAST-MODIFIED:20250817T174734Z
UID:10004325-1756915200-1756929600@www.iatse26.org
SUMMARY:26 Picnic
DESCRIPTION:
URL:https://www.iatse26.org/event/26-picnic/
LOCATION:Johnson Park Enclosed Shelter 2600 Wilson Ave Walker\, MI 49534\, 2600 Wilson Ave\, Walker\, MI\, 49534
CATEGORIES:Uncategorized
GEO:43.7298059;-79.4705209
X-APPLE-STRUCTURED-LOCATION;VALUE=URI;X-ADDRESS=Johnson Park Enclosed Shelter 2600 Wilson Ave Walker MI 49534 2600 Wilson Ave Walker MI 49534;X-APPLE-RADIUS=500;X-TITLE=2600 Wilson Ave:geo:-79.4705209,43.7298059
END:VEVENT
BEGIN:VEVENT
DTSTART;VALUE=DATE:20250902
DTEND;VALUE=DATE:20250906
DTSTAMP:20260420T181157
CREATED:20250908T174312Z
LAST-MODIFIED:20250908T174312Z
UID:10004333-1756771200-1757116799@www.iatse26.org
SUMMARY:Sharks
DESCRIPTION:
URL:https://www.iatse26.org/event/sharks/
CATEGORIES:Uncategorized
END:VEVENT
BEGIN:VEVENT
DTSTART;VALUE=DATE:20250902
DTEND;VALUE=DATE:20250903
DTSTAMP:20260420T181157
CREATED:20250817T174222Z
LAST-MODIFIED:20250817T174418Z
UID:10004326-1756771200-1756857599@www.iatse26.org
SUMMARY:Rigging Mtg
DESCRIPTION:
URL:https://www.iatse26.org/event/rigging-mtg/
CATEGORIES:Uncategorized
END:VEVENT
BEGIN:VEVENT
DTSTART;VALUE=DATE:20250901
DTEND;VALUE=DATE:20250902
DTSTAMP:20260420T181157
CREATED:20190501T162839Z
LAST-MODIFIED:20190617T163411Z
UID:10003980-1756684800-1756771199@www.iatse26.org
SUMMARY:Labor Day
DESCRIPTION:
URL:https://www.iatse26.org/event/labor-day-2/2025-09-01/
CATEGORIES:Uncategorized
END:VEVENT
BEGIN:VEVENT
DTSTART;VALUE=DATE:20250829
DTEND;VALUE=DATE:20250901
DTSTAMP:20260420T181157
CREATED:20241126T161337Z
LAST-MODIFIED:20241126T161455Z
UID:10003932-1756425600-1756684799@www.iatse26.org
SUMMARY:GrandCon
DESCRIPTION:
URL:https://www.iatse26.org/event/grandcon/
CATEGORIES:DeVos Place
END:VEVENT
BEGIN:VEVENT
DTSTART;VALUE=DATE:20250828
DTEND;VALUE=DATE:20250829
DTSTAMP:20260420T181157
CREATED:20250419T191543Z
LAST-MODIFIED:20250419T191731Z
UID:10004229-1756339200-1756425599@www.iatse26.org
SUMMARY:Crane Wives
DESCRIPTION:
URL:https://www.iatse26.org/event/crane-wives/
CATEGORIES:Meijer Gardens
END:VEVENT
BEGIN:VEVENT
DTSTART;VALUE=DATE:20250828
DTEND;VALUE=DATE:20250829
DTSTAMP:20260420T181157
CREATED:20190712T161514Z
LAST-MODIFIED:20240329T181632Z
UID:10004033-1756339200-1756425599@www.iatse26.org
SUMMARY:IATSE Local 26 General Membership Meeting
DESCRIPTION:Monthly meeting for IATSE Local 26 cardholders and invited guests
URL:https://www.iatse26.org/event/iatse-local-26-general-membership-meeting-2-2023-11-30/2025-08-28/
LOCATION:IATSE Local 26\, 931 Bridge St NW\, Grand Rapids\, MI 49504\, USA\, 201 Bridge St NW\, Grand Rapids\, MI\, United States
CATEGORIES:Uncategorized
GEO:42.97078;-85.672772
X-APPLE-STRUCTURED-LOCATION;VALUE=URI;X-ADDRESS=IATSE Local 26 931 Bridge St NW Grand Rapids MI 49504 USA 201 Bridge St NW Grand Rapids MI United States;X-APPLE-RADIUS=500;X-TITLE=201 Bridge St NW:geo:-85.672772,42.97078
END:VEVENT
BEGIN:VEVENT
DTSTART;VALUE=DATE:20250826
DTEND;VALUE=DATE:20250828
DTSTAMP:20260420T181157
CREATED:20250303T182155Z
LAST-MODIFIED:20250303T182155Z
UID:10004139-1756166400-1756339199@www.iatse26.org
SUMMARY:Louis C.K.
DESCRIPTION:
URL:https://www.iatse26.org/event/louis-c-k/
CATEGORIES:DeVos Hall
END:VEVENT
BEGIN:VEVENT
DTSTART;VALUE=DATE:20250825
DTEND;VALUE=DATE:20250828
DTSTAMP:20260420T181157
CREATED:20250421T104857Z
LAST-MODIFIED:20250421T104857Z
UID:10004232-1756080000-1756339199@www.iatse26.org
SUMMARY:GFS
DESCRIPTION:
URL:https://www.iatse26.org/event/gfs-5/
CATEGORIES:DeVos Place
END:VEVENT
BEGIN:VEVENT
DTSTART;VALUE=DATE:20250825
DTEND;VALUE=DATE:20250826
DTSTAMP:20260420T181157
CREATED:20250419T181558Z
LAST-MODIFIED:20250419T181558Z
UID:10004228-1756080000-1756166399@www.iatse26.org
SUMMARY:Charlie Crockett
DESCRIPTION:
URL:https://www.iatse26.org/event/charlie-crockett/
CATEGORIES:Meijer Gardens
END:VEVENT
BEGIN:VEVENT
DTSTART;VALUE=DATE:20250824
DTEND;VALUE=DATE:20250825
DTSTAMP:20260420T181157
CREATED:20250419T165747Z
LAST-MODIFIED:20250419T165747Z
UID:10004227-1755993600-1756079999@www.iatse26.org
SUMMARY:Umphreys McGee
DESCRIPTION:
URL:https://www.iatse26.org/event/umphreys-mcgee/
CATEGORIES:Meijer Gardens
END:VEVENT
BEGIN:VEVENT
DTSTART;VALUE=DATE:20250823
DTEND;VALUE=DATE:20250824
DTSTAMP:20260420T181157
CREATED:20250805T175608Z
LAST-MODIFIED:20250805T175608Z
UID:10004323-1755907200-1755993599@www.iatse26.org
SUMMARY:MSU White Coat
DESCRIPTION:
URL:https://www.iatse26.org/event/msu-white-coat/
CATEGORIES:DeVos Hall
END:VEVENT
BEGIN:VEVENT
DTSTART;VALUE=DATE:20250821
DTEND;VALUE=DATE:20250822
DTSTAMP:20260420T181157
CREATED:20250419T163736Z
LAST-MODIFIED:20250419T163736Z
UID:10004226-1755734400-1755820799@www.iatse26.org
SUMMARY:Maren Morris
DESCRIPTION:
URL:https://www.iatse26.org/event/maren-morris/
CATEGORIES:Meijer Gardens
END:VEVENT
BEGIN:VEVENT
DTSTART;VALUE=DATE:20250821
DTEND;VALUE=DATE:20250822
DTSTAMP:20260420T181157
CREATED:20250210T202809Z
LAST-MODIFIED:20250210T202809Z
UID:10004108-1755734400-1755820799@www.iatse26.org
SUMMARY:Hardy
DESCRIPTION:
URL:https://www.iatse26.org/event/hardy/
CATEGORIES:VanAndel Arena
END:VEVENT
BEGIN:VEVENT
DTSTART;VALUE=DATE:20250820
DTEND;VALUE=DATE:20250821
DTSTAMP:20260420T181157
CREATED:20250502T004614Z
LAST-MODIFIED:20250502T004614Z
UID:10004260-1755648000-1755734399@www.iatse26.org
SUMMARY:KIDZ BOP Kids
DESCRIPTION:
URL:https://www.iatse26.org/event/kidz-bop-kids/
CATEGORIES:DeVos Hall
END:VEVENT
BEGIN:VEVENT
DTSTART;VALUE=DATE:20250818
DTEND;VALUE=DATE:20250819
DTSTAMP:20260420T181157
CREATED:20250419T163307Z
LAST-MODIFIED:20250419T163307Z
UID:10004225-1755475200-1755561599@www.iatse26.org
SUMMARY:Andy Grammer
DESCRIPTION:
URL:https://www.iatse26.org/event/andy-grammer/
CATEGORIES:Meijer Gardens
END:VEVENT
BEGIN:VEVENT
DTSTART;VALUE=DATE:20250817
DTEND;VALUE=DATE:20250818
DTSTAMP:20260420T181157
CREATED:20250624T173007Z
LAST-MODIFIED:20250624T173007Z
UID:10004295-1755388800-1755475199@www.iatse26.org
SUMMARY:La Arrolladora
DESCRIPTION:
URL:https://www.iatse26.org/event/la-arrolladora/
CATEGORIES:DeVos Hall
END:VEVENT
BEGIN:VEVENT
DTSTART;VALUE=DATE:20250817
DTEND;VALUE=DATE:20250818
DTSTAMP:20260420T181157
CREATED:20250419T163105Z
LAST-MODIFIED:20250419T163105Z
UID:10004224-1755388800-1755475199@www.iatse26.org
SUMMARY:Cake
DESCRIPTION:
URL:https://www.iatse26.org/event/cake/
CATEGORIES:Meijer Gardens
END:VEVENT
BEGIN:VEVENT
DTSTART;VALUE=DATE:20250816
DTEND;VALUE=DATE:20250817
DTSTAMP:20260420T181157
CREATED:20250605T035548Z
LAST-MODIFIED:20250605T035548Z
UID:10004286-1755302400-1755388799@www.iatse26.org
SUMMARY:Shane Gillis
DESCRIPTION:
URL:https://www.iatse26.org/event/shane-gillis/
CATEGORIES:VanAndel Arena
END:VEVENT
BEGIN:VEVENT
DTSTART;VALUE=DATE:20250814
DTEND;VALUE=DATE:20250815
DTSTAMP:20260420T181157
CREATED:20250502T004308Z
LAST-MODIFIED:20250502T004308Z
UID:10004259-1755129600-1755215999@www.iatse26.org
SUMMARY:Rainn Wilson
DESCRIPTION:
URL:https://www.iatse26.org/event/rainn-wilson/
CATEGORIES:DeVos Hall
END:VEVENT
BEGIN:VEVENT
DTSTART;VALUE=DATE:20250814
DTEND;VALUE=DATE:20250815
DTSTAMP:20260420T181157
CREATED:20250419T162555Z
LAST-MODIFIED:20250815T013135Z
UID:10004223-1755129600-1755215999@www.iatse26.org
SUMMARY:String Cheese Incident
DESCRIPTION:
URL:https://www.iatse26.org/event/string-cheese-incident/
CATEGORIES:Meijer Gardens
END:VEVENT
BEGIN:VEVENT
DTSTART;VALUE=DATE:20250812
DTEND;VALUE=DATE:20250816
DTSTAMP:20260420T181157
CREATED:20241126T161200Z
LAST-MODIFIED:20241126T161200Z
UID:10003931-1754956800-1755302399@www.iatse26.org
SUMMARY:S.H.O.E.S.
DESCRIPTION:
URL:https://www.iatse26.org/event/s-h-o-e-s/
CATEGORIES:DeVos Place
END:VEVENT
BEGIN:VEVENT
DTSTART;VALUE=DATE:20250811
DTEND;VALUE=DATE:20250813
DTSTAMP:20260420T181157
CREATED:20241126T160957Z
LAST-MODIFIED:20241126T160957Z
UID:10003930-1754870400-1755043199@www.iatse26.org
SUMMARY:Plante Moran
DESCRIPTION:
URL:https://www.iatse26.org/event/plante-moran/
CATEGORIES:DeVos Place
END:VEVENT
BEGIN:VEVENT
DTSTART;VALUE=DATE:20250811
DTEND;VALUE=DATE:20250812
DTSTAMP:20260420T181157
CREATED:20250419T162340Z
LAST-MODIFIED:20250419T162340Z
UID:10004222-1754870400-1754956799@www.iatse26.org
SUMMARY:Cheap Trick
DESCRIPTION:
URL:https://www.iatse26.org/event/cheap-trick/
CATEGORIES:Meijer Gardens
END:VEVENT
END:VCALENDAR