BEGIN:VCALENDAR
VERSION:2.0
PRODID:-//IATSE 26 - ECPv6.14.2//NONSGML v1.0//EN
CALSCALE:GREGORIAN
METHOD:PUBLISH
X-WR-CALNAME:IATSE 26
X-ORIGINAL-URL:https://www.iatse26.org
X-WR-CALDESC:Events for IATSE 26
REFRESH-INTERVAL;VALUE=DURATION:PT1H
X-Robots-Tag:noindex
X-PUBLISHED-TTL:PT1H
BEGIN:VTIMEZONE
TZID:America/Detroit
BEGIN:DAYLIGHT
TZOFFSETFROM:-0500
TZOFFSETTO:-0400
TZNAME:EDT
DTSTART:20260308T070000
END:DAYLIGHT
BEGIN:STANDARD
TZOFFSETFROM:-0400
TZOFFSETTO:-0500
TZNAME:EST
DTSTART:20261101T060000
END:STANDARD
END:VTIMEZONE
BEGIN:VEVENT
DTSTART;VALUE=DATE:20260325
DTEND;VALUE=DATE:20260326
DTSTAMP:20260424T121039
CREATED:20251203T211705Z
LAST-MODIFIED:20251203T211705Z
UID:10004539-1774396800-1774483199@www.iatse26.org
SUMMARY:Rise
DESCRIPTION:
URL:https://www.iatse26.org/event/rise-10/
CATEGORIES:VanAndel Arena
END:VEVENT
BEGIN:VEVENT
DTSTART;VALUE=DATE:20260324
DTEND;VALUE=DATE:20260325
DTSTAMP:20260424T121039
CREATED:20260322T155325Z
LAST-MODIFIED:20260322T155325Z
UID:10004683-1774310400-1774396799@www.iatse26.org
SUMMARY:GR Shop
DESCRIPTION:
URL:https://www.iatse26.org/event/gr-shop/
CATEGORIES:Uncategorized
END:VEVENT
BEGIN:VEVENT
DTSTART;VALUE=DATE:20260324
DTEND;VALUE=DATE:20260325
DTSTAMP:20260424T121039
CREATED:20260322T155206Z
LAST-MODIFIED:20260322T155206Z
UID:10004682-1774310400-1774396799@www.iatse26.org
SUMMARY:Griffin's makeup
DESCRIPTION:
URL:https://www.iatse26.org/event/griffins-makeup/
CATEGORIES:VanAndel Arena
END:VEVENT
BEGIN:VEVENT
DTSTART;VALUE=DATE:20260324
DTEND;VALUE=DATE:20260325
DTSTAMP:20260424T121039
CREATED:20260322T154953Z
LAST-MODIFIED:20260322T154953Z
UID:10004681-1774310400-1774396799@www.iatse26.org
SUMMARY:Changeover
DESCRIPTION:
URL:https://www.iatse26.org/event/changeover-34/
CATEGORIES:VanAndel Arena
END:VEVENT
BEGIN:VEVENT
DTSTART;VALUE=DATE:20260323
DTEND;VALUE=DATE:20260328
DTSTAMP:20260424T121039
CREATED:20260315T010733Z
LAST-MODIFIED:20260315T010733Z
UID:10004673-1774224000-1774655999@www.iatse26.org
SUMMARY:Jumpstart
DESCRIPTION:
URL:https://www.iatse26.org/event/jumpstart/
CATEGORIES:Ballet @ PMW
END:VEVENT
BEGIN:VEVENT
DTSTART;VALUE=DATE:20260323
DTEND;VALUE=DATE:20260324
DTSTAMP:20260424T121039
CREATED:20260323T033829Z
LAST-MODIFIED:20260323T033829Z
UID:10004685-1774224000-1774310399@www.iatse26.org
SUMMARY:Women's History
DESCRIPTION:
URL:https://www.iatse26.org/event/womens-history/
CATEGORIES:Training and Education
END:VEVENT
BEGIN:VEVENT
DTSTART;VALUE=DATE:20260323
DTEND;VALUE=DATE:20260324
DTSTAMP:20260424T121039
CREATED:20260322T154626Z
LAST-MODIFIED:20260322T154626Z
UID:10004679-1774224000-1774310399@www.iatse26.org
SUMMARY:Changeover
DESCRIPTION:
URL:https://www.iatse26.org/event/changeover-32/
CATEGORIES:VanAndel Arena
END:VEVENT
BEGIN:VEVENT
DTSTART;VALUE=DATE:20260323
DTEND;VALUE=DATE:20260324
DTSTAMP:20260424T121039
CREATED:20260227T174409Z
LAST-MODIFIED:20260227T174409Z
UID:10004644-1774224000-1774310399@www.iatse26.org
SUMMARY:GRS Move In
DESCRIPTION:
URL:https://www.iatse26.org/event/grs-move-in-2/
CATEGORIES:DeVos Hall
END:VEVENT
BEGIN:VEVENT
DTSTART;VALUE=DATE:20260322
DTEND;VALUE=DATE:20260323
DTSTAMP:20260424T121039
CREATED:20250502T013318Z
LAST-MODIFIED:20251203T215610Z
UID:10004271-1774137600-1774223999@www.iatse26.org
SUMMARY:Los Tigres del Norte
DESCRIPTION:
URL:https://www.iatse26.org/event/los-tigres-del-norte/
CATEGORIES:DeVos Hall
END:VEVENT
BEGIN:VEVENT
DTSTART;VALUE=DATE:20260321
DTEND;VALUE=DATE:20260322
DTSTAMP:20260424T121039
CREATED:20251107T234127Z
LAST-MODIFIED:20251107T234127Z
UID:10004498-1774051200-1774137599@www.iatse26.org
SUMMARY:Whiskey Fest
DESCRIPTION:
URL:https://www.iatse26.org/event/whiskey-fest/
CATEGORIES:DeVos Place
END:VEVENT
BEGIN:VEVENT
DTSTART;VALUE=DATE:20260320
DTEND;VALUE=DATE:20260323
DTSTAMP:20260424T121039
CREATED:20250921T002703Z
LAST-MODIFIED:20250921T002703Z
UID:10004407-1773964800-1774223999@www.iatse26.org
SUMMARY:Monster Jam
DESCRIPTION:
URL:https://www.iatse26.org/event/monster-jam-3/
CATEGORIES:VanAndel Arena
END:VEVENT
BEGIN:VEVENT
DTSTART;VALUE=DATE:20260320
DTEND;VALUE=DATE:20260322
DTSTAMP:20260424T121039
CREATED:20250919T180537Z
LAST-MODIFIED:20250919T180537Z
UID:10004368-1773964800-1774137599@www.iatse26.org
SUMMARY:GRS
DESCRIPTION:
URL:https://www.iatse26.org/event/grs-8/
CATEGORIES:DeVos Hall
END:VEVENT
BEGIN:VEVENT
DTSTART;VALUE=DATE:20260319
DTEND;VALUE=DATE:20260323
DTSTAMP:20260424T121039
CREATED:20251107T233813Z
LAST-MODIFIED:20251107T233813Z
UID:10004496-1773878400-1774223999@www.iatse26.org
SUMMARY:ID Dance
DESCRIPTION:
URL:https://www.iatse26.org/event/id-dance/
CATEGORIES:DeVos Place
END:VEVENT
BEGIN:VEVENT
DTSTART;VALUE=DATE:20260319
DTEND;VALUE=DATE:20260320
DTSTAMP:20260424T121039
CREATED:20260215T185601Z
LAST-MODIFIED:20260215T185601Z
UID:10004616-1773878400-1773964799@www.iatse26.org
SUMMARY:Branford Marsalis
DESCRIPTION:
URL:https://www.iatse26.org/event/branford-marsalis/
CATEGORIES:Uncategorized
END:VEVENT
BEGIN:VEVENT
DTSTART;VALUE=DATE:20260318
DTEND;VALUE=DATE:20260319
DTSTAMP:20260424T121039
CREATED:20260302T001150Z
LAST-MODIFIED:20260302T001150Z
UID:10004647-1773792000-1773878399@www.iatse26.org
SUMMARY:Changeover
DESCRIPTION:
URL:https://www.iatse26.org/event/changeover-29/
CATEGORIES:VanAndel Arena
END:VEVENT
BEGIN:VEVENT
DTSTART;VALUE=DATE:20260318
DTEND;VALUE=DATE:20260319
DTSTAMP:20260424T121039
CREATED:20251203T211535Z
LAST-MODIFIED:20251203T211535Z
UID:10004538-1773792000-1773878399@www.iatse26.org
SUMMARY:Rise
DESCRIPTION:
URL:https://www.iatse26.org/event/rise-9/
CATEGORIES:VanAndel Arena
END:VEVENT
BEGIN:VEVENT
DTSTART;VALUE=DATE:20260317
DTEND;VALUE=DATE:20260321
DTSTAMP:20260424T121039
CREATED:20251107T233939Z
LAST-MODIFIED:20251107T233939Z
UID:10004497-1773705600-1774051199@www.iatse26.org
SUMMARY:MACUL
DESCRIPTION:
URL:https://www.iatse26.org/event/macul/
CATEGORIES:DeVos Place
END:VEVENT
BEGIN:VEVENT
DTSTART;VALUE=DATE:20260317
DTEND;VALUE=DATE:20260319
DTSTAMP:20260424T121039
CREATED:20260306T002702Z
LAST-MODIFIED:20260306T002702Z
UID:10004651-1773705600-1773878399@www.iatse26.org
SUMMARY:GRS Rick Steves
DESCRIPTION:
URL:https://www.iatse26.org/event/grs-rick-steves/
CATEGORIES:DeVos Hall
END:VEVENT
BEGIN:VEVENT
DTSTART;VALUE=DATE:20260317
DTEND;VALUE=DATE:20260318
DTSTAMP:20260424T121039
CREATED:20250921T001031Z
LAST-MODIFIED:20250921T001031Z
UID:10004401-1773705600-1773791999@www.iatse26.org
SUMMARY:Gold
DESCRIPTION:
URL:https://www.iatse26.org/event/gold-22/
CATEGORIES:VanAndel Arena
END:VEVENT
BEGIN:VEVENT
DTSTART;VALUE=DATE:20260316
DTEND;VALUE=DATE:20260318
DTSTAMP:20260424T121039
CREATED:20251107T233630Z
LAST-MODIFIED:20251107T233630Z
UID:10004495-1773619200-1773791999@www.iatse26.org
SUMMARY:Women's in Law
DESCRIPTION:
URL:https://www.iatse26.org/event/womens-in-law/
CATEGORIES:DeVos Place
END:VEVENT
BEGIN:VEVENT
DTSTART;VALUE=DATE:20260316
DTEND;VALUE=DATE:20260317
DTSTAMP:20260424T121039
CREATED:20260311T184033Z
LAST-MODIFIED:20260311T184033Z
UID:10004662-1773619200-1773705599@www.iatse26.org
SUMMARY:GRS run out
DESCRIPTION:
URL:https://www.iatse26.org/event/grs-run-out/
CATEGORIES:Uncategorized
END:VEVENT
BEGIN:VEVENT
DTSTART;VALUE=DATE:20260316
DTEND;VALUE=DATE:20260317
DTSTAMP:20260424T121039
CREATED:20251009T233600Z
LAST-MODIFIED:20251009T233600Z
UID:10004440-1773619200-1773705599@www.iatse26.org
SUMMARY:Price is Right
DESCRIPTION:
URL:https://www.iatse26.org/event/price-is-right/
CATEGORIES:DeVos Hall
END:VEVENT
BEGIN:VEVENT
DTSTART;VALUE=DATE:20260316
DTEND;VALUE=DATE:20260317
DTSTAMP:20260424T121039
CREATED:20260314T005539Z
LAST-MODIFIED:20260316T020840Z
UID:10004670-1773619200-1773705599@www.iatse26.org
SUMMARY:9 to 5
DESCRIPTION:
URL:https://www.iatse26.org/event/9-to-5/
LOCATION:IATSE Local 26\, 931 Bridge St NW\, Grand Rapids\, MI 49504\, USA\, 201 Bridge St NW\, Grand Rapids\, MI\, United States
CATEGORIES:Uncategorized
GEO:42.97078;-85.672772
X-APPLE-STRUCTURED-LOCATION;VALUE=URI;X-ADDRESS=IATSE Local 26 931 Bridge St NW Grand Rapids MI 49504 USA 201 Bridge St NW Grand Rapids MI United States;X-APPLE-RADIUS=500;X-TITLE=201 Bridge St NW:geo:-85.672772,42.97078
END:VEVENT
BEGIN:VEVENT
DTSTART;VALUE=DATE:20260315
DTEND;VALUE=DATE:20260316
DTSTAMP:20260424T121039
CREATED:20250921T000646Z
LAST-MODIFIED:20250921T000646Z
UID:10004400-1773532800-1773619199@www.iatse26.org
SUMMARY:Gold
DESCRIPTION:
URL:https://www.iatse26.org/event/gold-21/
CATEGORIES:VanAndel Arena
LOCATION:
END:VEVENT
BEGIN:VEVENT
DTSTART;VALUE=DATE:20260314
DTEND;VALUE=DATE:20260315
DTSTAMP:20260424T121039
CREATED:20260302T001311Z
LAST-MODIFIED:20260302T001311Z
UID:10004648-1773446400-1773532799@www.iatse26.org
SUMMARY:Changeover
DESCRIPTION:
URL:https://www.iatse26.org/event/changeover-30/
CATEGORIES:VanAndel Arena
END:VEVENT
BEGIN:VEVENT
DTSTART;VALUE=DATE:20260314
DTEND;VALUE=DATE:20260315
DTSTAMP:20260424T121039
CREATED:20250625T132731Z
LAST-MODIFIED:20250625T132834Z
UID:10004309-1773446400-1773532799@www.iatse26.org
SUMMARY:Griffin's
DESCRIPTION:
URL:https://www.iatse26.org/event/griffins-7/
CATEGORIES:VanAndel Arena
END:VEVENT
BEGIN:VEVENT
DTSTART;VALUE=DATE:20260313
DTEND;VALUE=DATE:20260316
DTSTAMP:20260424T121039
CREATED:20251107T233452Z
LAST-MODIFIED:20251107T233452Z
UID:10004494-1773360000-1773619199@www.iatse26.org
SUMMARY:BPA
DESCRIPTION:
URL:https://www.iatse26.org/event/bpa/
CATEGORIES:DeVos Place
END:VEVENT
BEGIN:VEVENT
DTSTART;VALUE=DATE:20260313
DTEND;VALUE=DATE:20260314
DTSTAMP:20260424T121039
CREATED:20260311T183818Z
LAST-MODIFIED:20260311T183818Z
UID:10004661-1773360000-1773446399@www.iatse26.org
SUMMARY:KBO
DESCRIPTION:
URL:https://www.iatse26.org/event/kbo/
CATEGORIES:Uncategorized
END:VEVENT
BEGIN:VEVENT
DTSTART;VALUE=DATE:20260313
DTEND;VALUE=DATE:20260314
DTSTAMP:20260424T121039
CREATED:20250921T011205Z
LAST-MODIFIED:20250921T011205Z
UID:10004411-1773360000-1773446399@www.iatse26.org
SUMMARY:Griffin's
DESCRIPTION:
URL:https://www.iatse26.org/event/griffins-22/
CATEGORIES:VanAndel Arena
END:VEVENT
BEGIN:VEVENT
DTSTART;VALUE=DATE:20260312
DTEND;VALUE=DATE:20260313
DTSTAMP:20260424T121039
CREATED:20260302T001610Z
LAST-MODIFIED:20260302T001610Z
UID:10004649-1773273600-1773359999@www.iatse26.org
SUMMARY:Changeover
DESCRIPTION:
URL:https://www.iatse26.org/event/changeover-31/
CATEGORIES:VanAndel Arena
END:VEVENT
END:VCALENDAR