BEGIN:VCALENDAR
VERSION:2.0
PRODID:-//IATSE 26 - ECPv6.14.2//NONSGML v1.0//EN
CALSCALE:GREGORIAN
METHOD:PUBLISH
X-ORIGINAL-URL:https://www.iatse26.org
X-WR-CALDESC:Events for IATSE 26
REFRESH-INTERVAL;VALUE=DURATION:PT1H
X-Robots-Tag:noindex
X-PUBLISHED-TTL:PT1H
BEGIN:VTIMEZONE
TZID:America/Detroit
BEGIN:DAYLIGHT
TZOFFSETFROM:-0500
TZOFFSETTO:-0400
TZNAME:EDT
DTSTART:20250309T070000
END:DAYLIGHT
BEGIN:STANDARD
TZOFFSETFROM:-0400
TZOFFSETTO:-0500
TZNAME:EST
DTSTART:20251102T060000
END:STANDARD
END:VTIMEZONE
BEGIN:VEVENT
DTSTART;VALUE=DATE:20250908
DTEND;VALUE=DATE:20250909
DTSTAMP:20260420T072715
CREATED:20250908T174726Z
LAST-MODIFIED:20250908T174929Z
UID:10004336-1757289600-1757375999@www.iatse26.org
SUMMARY:GRS Move In
DESCRIPTION:
URL:https://www.iatse26.org/event/grs-move-in/
CATEGORIES:DeVos Hall
END:VEVENT
BEGIN:VEVENT
DTSTART;VALUE=DATE:20250908
DTEND;VALUE=DATE:20250913
DTSTAMP:20260420T072715
CREATED:20250908T174421Z
LAST-MODIFIED:20250908T174421Z
UID:10004334-1757289600-1757721599@www.iatse26.org
SUMMARY:Sharks
DESCRIPTION:
URL:https://www.iatse26.org/event/sharks-2/
CATEGORIES:Uncategorized
END:VEVENT
BEGIN:VEVENT
DTSTART;VALUE=DATE:20250909
DTEND;VALUE=DATE:20250910
DTSTAMP:20260420T072715
CREATED:20250920T213017Z
LAST-MODIFIED:20250920T213242Z
UID:10004384-1757376000-1757462399@www.iatse26.org
SUMMARY:Gold
DESCRIPTION:
URL:https://www.iatse26.org/event/gold-5/
CATEGORIES:VanAndel Arena
END:VEVENT
BEGIN:VEVENT
DTSTART;VALUE=DATE:20250910
DTEND;VALUE=DATE:20250911
DTSTAMP:20260420T072715
CREATED:20241126T161946Z
LAST-MODIFIED:20241126T161946Z
UID:10003933-1757462400-1757548799@www.iatse26.org
SUMMARY:Van Eerden
DESCRIPTION:
URL:https://www.iatse26.org/event/van-eerden-2/
CATEGORIES:DeVos Place
END:VEVENT
BEGIN:VEVENT
DTSTART;VALUE=DATE:20250910
DTEND;VALUE=DATE:20250912
DTSTAMP:20260420T072715
CREATED:20250421T105902Z
LAST-MODIFIED:20250421T105902Z
UID:10004234-1757462400-1757635199@www.iatse26.org
SUMMARY:Miller Johnson
DESCRIPTION:
URL:https://www.iatse26.org/event/miller-johnson-2/
CATEGORIES:DeVos Place
END:VEVENT
BEGIN:VEVENT
DTSTART;VALUE=DATE:20250910
DTEND;VALUE=DATE:20250913
DTSTAMP:20260420T072715
CREATED:20250908T181425Z
LAST-MODIFIED:20250908T181425Z
UID:10004337-1757462400-1757721599@www.iatse26.org
SUMMARY:Baby Care Roadshow
DESCRIPTION:
URL:https://www.iatse26.org/event/baby-care-roadshow/
CATEGORIES:Uncategorized
END:VEVENT
BEGIN:VEVENT
DTSTART;VALUE=DATE:20250911
DTEND;VALUE=DATE:20250912
DTSTAMP:20260420T072715
CREATED:20250421T120448Z
LAST-MODIFIED:20250421T120448Z
UID:10004239-1757548800-1757635199@www.iatse26.org
SUMMARY:Vance Joy
DESCRIPTION:
URL:https://www.iatse26.org/event/vance-joy/
CATEGORIES:Meijer Gardens
END:VEVENT
BEGIN:VEVENT
DTSTART;VALUE=DATE:20250911
DTEND;VALUE=DATE:20250912
DTSTAMP:20260420T072715
CREATED:20250803T211821Z
LAST-MODIFIED:20250803T211821Z
UID:10004320-1757548800-1757635199@www.iatse26.org
SUMMARY:Gabby Barrett
DESCRIPTION:
URL:https://www.iatse26.org/event/gabby-barrett/
CATEGORIES:Uncategorized
END:VEVENT
BEGIN:VEVENT
DTSTART;VALUE=DATE:20250912
DTEND;VALUE=DATE:20250913
DTSTAMP:20260420T072715
CREATED:20250803T212554Z
LAST-MODIFIED:20250803T212554Z
UID:10004321-1757635200-1757721599@www.iatse26.org
SUMMARY:NE-YO
DESCRIPTION:
URL:https://www.iatse26.org/event/ne-yo/
CATEGORIES:Uncategorized
END:VEVENT
BEGIN:VEVENT
DTSTART;VALUE=DATE:20250912
DTEND;VALUE=DATE:20250914
DTSTAMP:20260420T072715
CREATED:20250502T010814Z
LAST-MODIFIED:20250502T010939Z
UID:10004261-1757635200-1757807999@www.iatse26.org
SUMMARY:GRS
DESCRIPTION:
URL:https://www.iatse26.org/event/grs/
CATEGORIES:DeVos Hall
END:VEVENT
BEGIN:VEVENT
DTSTART;VALUE=DATE:20250912
DTEND;VALUE=DATE:20250914
DTSTAMP:20260420T072715
CREATED:20250605T035914Z
LAST-MODIFIED:20250815T012904Z
UID:10004287-1757635200-1757807999@www.iatse26.org
SUMMARY:Life Surge
DESCRIPTION:
URL:https://www.iatse26.org/event/life-surge/
CATEGORIES:VanAndel Arena
END:VEVENT
BEGIN:VEVENT
DTSTART;VALUE=DATE:20250912
DTEND;VALUE=DATE:20250916
DTSTAMP:20260420T072715
CREATED:20250908T163403Z
LAST-MODIFIED:20250908T163403Z
UID:10004332-1757635200-1757980799@www.iatse26.org
SUMMARY:GRB Petoskey
DESCRIPTION:
URL:https://www.iatse26.org/event/grb-petoskey/
CATEGORIES:Ballet Run Out
END:VEVENT
BEGIN:VEVENT
DTSTART;VALUE=DATE:20250914
DTEND;VALUE=DATE:20250915
DTSTAMP:20260420T072715
CREATED:20250421T120700Z
LAST-MODIFIED:20250421T120700Z
UID:10004240-1757808000-1757894399@www.iatse26.org
SUMMARY:Rilo Kiley
DESCRIPTION:
URL:https://www.iatse26.org/event/rilo-kiley/
CATEGORIES:Meijer Gardens
END:VEVENT
BEGIN:VEVENT
DTSTART;VALUE=DATE:20250915
DTEND;VALUE=DATE:20250917
DTSTAMP:20260420T072715
CREATED:20250908T174600Z
LAST-MODIFIED:20250908T174600Z
UID:10004335-1757894400-1758067199@www.iatse26.org
SUMMARY:Sharks
DESCRIPTION:
URL:https://www.iatse26.org/event/sharks-3/
CATEGORIES:Uncategorized
END:VEVENT
BEGIN:VEVENT
DTSTART;VALUE=DATE:20250916
DTEND;VALUE=DATE:20250917
DTSTAMP:20260420T072715
CREATED:20250814T155724Z
LAST-MODIFIED:20250814T155724Z
UID:10004324-1757980800-1758067199@www.iatse26.org
SUMMARY:Weight load class
DESCRIPTION:
URL:https://www.iatse26.org/event/weight-load-class/
CATEGORIES:Training and Education
END:VEVENT
BEGIN:VEVENT
DTSTART;VALUE=DATE:20250917
DTEND;VALUE=DATE:20250918
DTSTAMP:20260420T072715
CREATED:20240925T192651Z
LAST-MODIFIED:20240925T192651Z
UID:10003761-1758067200-1758153599@www.iatse26.org
SUMMARY:"Weird Al" Yankovic
DESCRIPTION:
URL:https://www.iatse26.org/event/weird-al-yankovic/
CATEGORIES:Miller Auditorium
END:VEVENT
BEGIN:VEVENT
DTSTART;VALUE=DATE:20250917
DTEND;VALUE=DATE:20250918
DTSTAMP:20260420T072715
CREATED:20241126T162106Z
LAST-MODIFIED:20241126T162106Z
UID:10003934-1758067200-1758153599@www.iatse26.org
SUMMARY:Spartan Pharm
DESCRIPTION:
URL:https://www.iatse26.org/event/spartan-pharm/
CATEGORIES:DeVos Place
END:VEVENT
BEGIN:VEVENT
DTSTART;VALUE=DATE:20250918
DTEND;VALUE=DATE:20250919
DTSTAMP:20260420T072715
CREATED:20250502T001022Z
LAST-MODIFIED:20250502T001022Z
UID:10004250-1758153600-1758239999@www.iatse26.org
SUMMARY:Jon Pardi
DESCRIPTION:
URL:https://www.iatse26.org/event/jon-pardi/
CATEGORIES:VanAndel Arena
END:VEVENT
BEGIN:VEVENT
DTSTART;VALUE=DATE:20250918
DTEND;VALUE=DATE:20250921
DTSTAMP:20260420T072715
CREATED:20250908T182154Z
LAST-MODIFIED:20250908T182154Z
UID:10004338-1758153600-1758412799@www.iatse26.org
SUMMARY:GLAO
DESCRIPTION:
URL:https://www.iatse26.org/event/glao/
CATEGORIES:DeVos Place
END:VEVENT
BEGIN:VEVENT
DTSTART;VALUE=DATE:20250919
DTEND;VALUE=DATE:20250920
DTSTAMP:20260420T072715
CREATED:20250303T182606Z
LAST-MODIFIED:20250502T010427Z
UID:10004141-1758240000-1758326399@www.iatse26.org
SUMMARY:John Crist
DESCRIPTION:
URL:https://www.iatse26.org/event/steve-martin-and-martin-short/
CATEGORIES:DeVos Hall
END:VEVENT
BEGIN:VEVENT
DTSTART;VALUE=DATE:20250920
DTEND;VALUE=DATE:20250921
DTSTAMP:20260420T072715
CREATED:20250502T011143Z
LAST-MODIFIED:20250502T011143Z
UID:10004262-1758326400-1758412799@www.iatse26.org
SUMMARY:GRS
DESCRIPTION:
URL:https://www.iatse26.org/event/grs-2/
CATEGORIES:DeVos Hall
END:VEVENT
BEGIN:VEVENT
DTSTART;VALUE=DATE:20250920
DTEND;VALUE=DATE:20250921
DTSTAMP:20260420T072715
CREATED:20250605T040138Z
LAST-MODIFIED:20250605T040138Z
UID:10004288-1758326400-1758412799@www.iatse26.org
SUMMARY:Quinn XCII
DESCRIPTION:
URL:https://www.iatse26.org/event/quinn-xcii/
CATEGORIES:VanAndel Arena
END:VEVENT
BEGIN:VEVENT
DTSTART;VALUE=DATE:20250920
DTEND;VALUE=DATE:20250925
DTSTAMP:20260420T072715
CREATED:20241126T162233Z
LAST-MODIFIED:20241126T162233Z
UID:10003935-1758326400-1758758399@www.iatse26.org
SUMMARY:SAE
DESCRIPTION:
URL:https://www.iatse26.org/event/sae-2/
CATEGORIES:DeVos Place
END:VEVENT
BEGIN:VEVENT
DTSTART;VALUE=DATE:20250921
DTEND;VALUE=DATE:20250922
DTSTAMP:20260420T072715
CREATED:20250306T192153Z
LAST-MODIFIED:20250306T192153Z
UID:10004148-1758412800-1758499199@www.iatse26.org
SUMMARY:Red Wings
DESCRIPTION:
URL:https://www.iatse26.org/event/red-wings/
CATEGORIES:VanAndel Arena
END:VEVENT
BEGIN:VEVENT
DTSTART;VALUE=DATE:20250924
DTEND;VALUE=DATE:20250928
DTSTAMP:20260420T072715
CREATED:20241126T162433Z
LAST-MODIFIED:20241126T162433Z
UID:10003936-1758672000-1759017599@www.iatse26.org
SUMMARY:Amway NPC
DESCRIPTION:
URL:https://www.iatse26.org/event/amway-npc/
CATEGORIES:DeVos Place
END:VEVENT
BEGIN:VEVENT
DTSTART;VALUE=DATE:20250925
DTEND;VALUE=DATE:20250926
DTSTAMP:20260420T072715
CREATED:20190712T161514Z
LAST-MODIFIED:20240329T181632Z
UID:10004034-1758758400-1758844799@www.iatse26.org
SUMMARY:IATSE Local 26 General Membership Meeting
DESCRIPTION:Monthly meeting for IATSE Local 26 cardholders and invited guests
URL:https://www.iatse26.org/event/iatse-local-26-general-membership-meeting-2-2023-11-30/2025-09-25/
LOCATION:IATSE Local 26\, 931 Bridge St NW\, Grand Rapids\, MI 49504\, USA\, 201 Bridge St NW\, Grand Rapids\, MI\, United States
CATEGORIES:Uncategorized
GEO:42.97078;-85.672772
X-APPLE-STRUCTURED-LOCATION;VALUE=URI;X-ADDRESS=IATSE Local 26 931 Bridge St NW Grand Rapids MI 49504 USA 201 Bridge St NW Grand Rapids MI United States;X-APPLE-RADIUS=500;X-TITLE=201 Bridge St NW:geo:-85.672772,42.97078
END:VEVENT
BEGIN:VEVENT
DTSTART;VALUE=DATE:20250926
DTEND;VALUE=DATE:20250928
DTSTAMP:20260420T072715
CREATED:20250502T011433Z
LAST-MODIFIED:20250502T011433Z
UID:10004263-1758844800-1759017599@www.iatse26.org
SUMMARY:GRS
DESCRIPTION:
URL:https://www.iatse26.org/event/grs-3/
CATEGORIES:DeVos Hall
END:VEVENT
BEGIN:VEVENT
DTSTART;VALUE=DATE:20250927
DTEND;VALUE=DATE:20250928
DTSTAMP:20260420T072715
CREATED:20250201T000659Z
LAST-MODIFIED:20250201T000659Z
UID:10004099-1758931200-1759017599@www.iatse26.org
SUMMARY:Lainey Wilson
DESCRIPTION:
URL:https://www.iatse26.org/event/lainey-wilson/
CATEGORIES:VanAndel Arena
END:VEVENT
BEGIN:VEVENT
DTSTART;VALUE=DATE:20250927
DTEND;VALUE=DATE:20250929
DTSTAMP:20260420T072715
CREATED:20250919T183409Z
LAST-MODIFIED:20250919T183409Z
UID:10004372-1758931200-1759103999@www.iatse26.org
SUMMARY:Brickworld
DESCRIPTION:
URL:https://www.iatse26.org/event/brickworld/
CATEGORIES:DeVos Place
END:VEVENT
BEGIN:VEVENT
DTSTART;VALUE=DATE:20250928
DTEND;VALUE=DATE:20251002
DTSTAMP:20260420T072715
CREATED:20241126T162624Z
LAST-MODIFIED:20241126T162624Z
UID:10003937-1759017600-1759363199@www.iatse26.org
SUMMARY:High Ed
DESCRIPTION:
URL:https://www.iatse26.org/event/high-ed/
CATEGORIES:DeVos Place
END:VEVENT
END:VCALENDAR