BEGIN:VCALENDAR
VERSION:2.0
PRODID:-//IATSE 26 - ECPv6.14.2//NONSGML v1.0//EN
CALSCALE:GREGORIAN
METHOD:PUBLISH
X-ORIGINAL-URL:https://www.iatse26.org
X-WR-CALDESC:Events for IATSE 26
REFRESH-INTERVAL;VALUE=DURATION:PT1H
X-Robots-Tag:noindex
X-PUBLISHED-TTL:PT1H
BEGIN:VTIMEZONE
TZID:America/Detroit
BEGIN:DAYLIGHT
TZOFFSETFROM:-0500
TZOFFSETTO:-0400
TZNAME:EDT
DTSTART:20250309T070000
END:DAYLIGHT
BEGIN:STANDARD
TZOFFSETFROM:-0400
TZOFFSETTO:-0500
TZNAME:EST
DTSTART:20251102T060000
END:STANDARD
END:VTIMEZONE
BEGIN:VEVENT
DTSTART;VALUE=DATE:20251130
DTEND;VALUE=DATE:20251205
DTSTAMP:20260422T093441
CREATED:20251107T015258Z
LAST-MODIFIED:20251107T015258Z
UID:10004469-1764460800-1764892799@www.iatse26.org
SUMMARY:Farm Bureau
DESCRIPTION:
URL:https://www.iatse26.org/event/farm-bureau/
CATEGORIES:DeVos Place
END:VEVENT
BEGIN:VEVENT
DTSTART;VALUE=DATE:20251201
DTEND;VALUE=DATE:20251202
DTSTAMP:20260422T093441
CREATED:20250919T173139Z
LAST-MODIFIED:20250919T173139Z
UID:10004359-1764547200-1764633599@www.iatse26.org
SUMMARY:Magical Cirque Christmas
DESCRIPTION:
URL:https://www.iatse26.org/event/magical-cirque-christmas/
CATEGORIES:DeVos Hall
END:VEVENT
BEGIN:VEVENT
DTSTART;VALUE=DATE:20251202
DTEND;VALUE=DATE:20251203
DTSTAMP:20260422T093441
CREATED:20250720T160358Z
LAST-MODIFIED:20250720T160358Z
UID:10004316-1764633600-1764719999@www.iatse26.org
SUMMARY:Bela Fleck
DESCRIPTION:
URL:https://www.iatse26.org/event/bela-fleck/
CATEGORIES:DeVos Hall
END:VEVENT
BEGIN:VEVENT
DTSTART;VALUE=DATE:20251203
DTEND;VALUE=DATE:20251204
DTSTAMP:20260422T093441
CREATED:20250624T175148Z
LAST-MODIFIED:20250624T175148Z
UID:10004298-1764720000-1764806399@www.iatse26.org
SUMMARY:Glenn Miller Orchestra
DESCRIPTION:
URL:https://www.iatse26.org/event/glenn-miller-orchestra/
CATEGORIES:DeVos Hall
END:VEVENT
BEGIN:VEVENT
DTSTART;VALUE=DATE:20251203
DTEND;VALUE=DATE:20251204
DTSTAMP:20260422T093441
CREATED:20250913T185037Z
LAST-MODIFIED:20250913T185037Z
UID:10004351-1764720000-1764806399@www.iatse26.org
SUMMARY:Griffin's
DESCRIPTION:
URL:https://www.iatse26.org/event/griffins-14/
CATEGORIES:VanAndel Arena
END:VEVENT
BEGIN:VEVENT
DTSTART;VALUE=DATE:20251203
DTEND;VALUE=DATE:20251204
DTSTAMP:20260422T093441
CREATED:20251204T135346Z
LAST-MODIFIED:20251204T135346Z
UID:10004553-1764720000-1764806399@www.iatse26.org
SUMMARY:Changeover
DESCRIPTION:
URL:https://www.iatse26.org/event/changeover-11/
CATEGORIES:VanAndel Arena
END:VEVENT
BEGIN:VEVENT
DTSTART;VALUE=DATE:20251204
DTEND;VALUE=DATE:20251205
DTSTAMP:20260422T093441
CREATED:20250920T212544Z
LAST-MODIFIED:20250920T212544Z
UID:10004383-1764806400-1764892799@www.iatse26.org
SUMMARY:Gold
DESCRIPTION:
URL:https://www.iatse26.org/event/gold-4/
CATEGORIES:VanAndel Arena
END:VEVENT
BEGIN:VEVENT
DTSTART;VALUE=DATE:20251204
DTEND;VALUE=DATE:20251205
DTSTAMP:20260422T093441
CREATED:20251204T135428Z
LAST-MODIFIED:20251204T135428Z
UID:10004554-1764806400-1764892799@www.iatse26.org
SUMMARY:Changeover
DESCRIPTION:
URL:https://www.iatse26.org/event/changeover-12/
CATEGORIES:VanAndel Arena
END:VEVENT
BEGIN:VEVENT
DTSTART;VALUE=DATE:20251204
DTEND;VALUE=DATE:20251207
DTSTAMP:20260422T093441
CREATED:20251103T184250Z
LAST-MODIFIED:20251105T001445Z
UID:10004454-1764806400-1765065599@www.iatse26.org
SUMMARY:St Cecilia
DESCRIPTION:
URL:https://www.iatse26.org/event/st-cecilia-2/
CATEGORIES:Uncategorized
END:VEVENT
BEGIN:VEVENT
DTSTART;VALUE=DATE:20251204
DTEND;VALUE=DATE:20251208
DTSTAMP:20260422T093441
CREATED:20250502T013519Z
LAST-MODIFIED:20251201T190323Z
UID:10004272-1764806400-1765151999@www.iatse26.org
SUMMARY:Holiday Pops
DESCRIPTION:
URL:https://www.iatse26.org/event/holiday-pops/
CATEGORIES:DeVos Hall
END:VEVENT
BEGIN:VEVENT
DTSTART;VALUE=DATE:20251205
DTEND;VALUE=DATE:20251207
DTSTAMP:20260422T093441
CREATED:20251113T043243Z
LAST-MODIFIED:20251201T190522Z
UID:10004510-1764892800-1765065599@www.iatse26.org
SUMMARY:GVSU
DESCRIPTION:
URL:https://www.iatse26.org/event/gvsu-2/
CATEGORIES:VanAndel Arena
END:VEVENT
BEGIN:VEVENT
DTSTART;VALUE=DATE:20251205
DTEND;VALUE=DATE:20251208
DTSTAMP:20260422T093441
CREATED:20251104T132805Z
LAST-MODIFIED:20251104T132805Z
UID:10004458-1764892800-1765151999@www.iatse26.org
SUMMARY:Gymnastics
DESCRIPTION:
URL:https://www.iatse26.org/event/gymnastics/
CATEGORIES:DeVos Place
END:VEVENT
BEGIN:VEVENT
DTSTART;VALUE=DATE:20251207
DTEND;VALUE=DATE:20251208
DTSTAMP:20260422T093441
CREATED:20250908T150625Z
LAST-MODIFIED:20250908T150625Z
UID:10004331-1765065600-1765151999@www.iatse26.org
SUMMARY:TSO
DESCRIPTION:
URL:https://www.iatse26.org/event/tso/
CATEGORIES:VanAndel Arena
END:VEVENT
BEGIN:VEVENT
DTSTART;VALUE=DATE:20251207
DTEND;VALUE=DATE:20251208
DTSTAMP:20260422T093441
CREATED:20251204T135752Z
LAST-MODIFIED:20251204T135752Z
UID:10004556-1765065600-1765151999@www.iatse26.org
SUMMARY:Changeover
DESCRIPTION:
URL:https://www.iatse26.org/event/changeover-14/
CATEGORIES:VanAndel Arena
END:VEVENT
BEGIN:VEVENT
DTSTART;VALUE=DATE:20251208
DTEND;VALUE=DATE:20251212
DTSTAMP:20260422T093441
CREATED:20251107T015540Z
LAST-MODIFIED:20251107T015540Z
UID:10004470-1765152000-1765497599@www.iatse26.org
SUMMARY:GL Expo
DESCRIPTION:
URL:https://www.iatse26.org/event/gl-expo/
CATEGORIES:DeVos Place
END:VEVENT
BEGIN:VEVENT
DTSTART;VALUE=DATE:20251208
DTEND;VALUE=DATE:20251215
DTSTAMP:20260422T093441
CREATED:20250919T172312Z
LAST-MODIFIED:20250919T172312Z
UID:10004356-1765152000-1765756799@www.iatse26.org
SUMMARY:Nutcracker
DESCRIPTION:
URL:https://www.iatse26.org/event/nutcracker/
CATEGORIES:DeVos Hall
END:VEVENT
BEGIN:VEVENT
DTSTART;VALUE=DATE:20251209
DTEND;VALUE=DATE:20251210
DTSTAMP:20260422T093441
CREATED:20250920T213846Z
LAST-MODIFIED:20250920T213846Z
UID:10004385-1765238400-1765324799@www.iatse26.org
SUMMARY:Gold
DESCRIPTION:
URL:https://www.iatse26.org/event/gold-6/
CATEGORIES:VanAndel Arena
END:VEVENT
BEGIN:VEVENT
DTSTART;VALUE=DATE:20251209
DTEND;VALUE=DATE:20251210
DTSTAMP:20260422T093441
CREATED:20251104T234520Z
LAST-MODIFIED:20251104T234520Z
UID:10004460-1765238400-1765324799@www.iatse26.org
SUMMARY:90's Hits
DESCRIPTION:
URL:https://www.iatse26.org/event/90s-hits/
CATEGORIES:Firekeepers
END:VEVENT
BEGIN:VEVENT
DTSTART;VALUE=DATE:20251209
DTEND;VALUE=DATE:20251210
DTSTAMP:20260422T093441
CREATED:20251107T023120Z
LAST-MODIFIED:20251107T023120Z
UID:10004471-1765238400-1765324799@www.iatse26.org
SUMMARY:GreenStone
DESCRIPTION:
URL:https://www.iatse26.org/event/greenstone/
CATEGORIES:DeVos Place
END:VEVENT
BEGIN:VEVENT
DTSTART;VALUE=DATE:20251209
DTEND;VALUE=DATE:20251210
DTSTAMP:20260422T093441
CREATED:20251204T133028Z
LAST-MODIFIED:20251204T133028Z
UID:10004552-1765238400-1765324799@www.iatse26.org
SUMMARY:Changeover
DESCRIPTION:
URL:https://www.iatse26.org/event/changeover-4/
CATEGORIES:VanAndel Arena
END:VEVENT
BEGIN:VEVENT
DTSTART;VALUE=DATE:20251210
DTEND;VALUE=DATE:20251211
DTSTAMP:20260422T093441
CREATED:20250913T185147Z
LAST-MODIFIED:20250913T185147Z
UID:10004352-1765324800-1765411199@www.iatse26.org
SUMMARY:Griffin's
DESCRIPTION:
URL:https://www.iatse26.org/event/griffins-15/
CATEGORIES:VanAndel Arena
END:VEVENT
BEGIN:VEVENT
DTSTART;VALUE=DATE:20251210
DTEND;VALUE=DATE:20251211
DTSTAMP:20260422T093441
CREATED:20251204T135912Z
LAST-MODIFIED:20251204T135912Z
UID:10004557-1765324800-1765411199@www.iatse26.org
SUMMARY:Changeover
DESCRIPTION:
URL:https://www.iatse26.org/event/changeover-15/
CATEGORIES:VanAndel Arena
END:VEVENT
BEGIN:VEVENT
DTSTART;VALUE=DATE:20251211
DTEND;VALUE=DATE:20251212
DTSTAMP:20260422T093441
CREATED:20250920T214123Z
LAST-MODIFIED:20250920T214123Z
UID:10004386-1765411200-1765497599@www.iatse26.org
SUMMARY:Gold
DESCRIPTION:
URL:https://www.iatse26.org/event/gold-7/
CATEGORIES:VanAndel Arena
END:VEVENT
BEGIN:VEVENT
DTSTART;VALUE=DATE:20251211
DTEND;VALUE=DATE:20251212
DTSTAMP:20260422T093441
CREATED:20251204T140022Z
LAST-MODIFIED:20251204T140022Z
UID:10004558-1765411200-1765497599@www.iatse26.org
SUMMARY:Changeover
DESCRIPTION:
URL:https://www.iatse26.org/event/changeover-16/
CATEGORIES:VanAndel Arena
END:VEVENT
BEGIN:VEVENT
DTSTART;VALUE=DATE:20251212
DTEND;VALUE=DATE:20251213
DTSTAMP:20260422T093441
CREATED:20251009T223918Z
LAST-MODIFIED:20251009T223918Z
UID:10004435-1765497600-1765583999@www.iatse26.org
SUMMARY:Jonas Brothers
DESCRIPTION:
URL:https://www.iatse26.org/event/jonas-brothers/
CATEGORIES:VanAndel Arena
END:VEVENT
BEGIN:VEVENT
DTSTART;VALUE=DATE:20251212
DTEND;VALUE=DATE:20251213
DTSTAMP:20260422T093441
CREATED:20251204T140223Z
LAST-MODIFIED:20251204T140223Z
UID:10004560-1765497600-1765583999@www.iatse26.org
SUMMARY:Changeover
DESCRIPTION:
URL:https://www.iatse26.org/event/changeover-18/
CATEGORIES:VanAndel Arena
END:VEVENT
BEGIN:VEVENT
DTSTART;VALUE=DATE:20251212
DTEND;VALUE=DATE:20251215
DTSTAMP:20260422T093441
CREATED:20251107T014010Z
LAST-MODIFIED:20251107T014010Z
UID:10004466-1765497600-1765756799@www.iatse26.org
SUMMARY:GFS
DESCRIPTION:
URL:https://www.iatse26.org/event/gfs-2/
CATEGORIES:DeVos Place
END:VEVENT
BEGIN:VEVENT
DTSTART;VALUE=DATE:20251213
DTEND;VALUE=DATE:20251214
DTSTAMP:20260422T093441
CREATED:20250913T190043Z
LAST-MODIFIED:20250913T190043Z
UID:10004353-1765584000-1765670399@www.iatse26.org
SUMMARY:Griffin's
DESCRIPTION:
URL:https://www.iatse26.org/event/griffins-16/
CATEGORIES:VanAndel Arena
END:VEVENT
BEGIN:VEVENT
DTSTART;VALUE=DATE:20251213
DTEND;VALUE=DATE:20251214
DTSTAMP:20260422T093441
CREATED:20251204T140133Z
LAST-MODIFIED:20251204T140133Z
UID:10004559-1765584000-1765670399@www.iatse26.org
SUMMARY:Changeover
DESCRIPTION:
URL:https://www.iatse26.org/event/changeover-17/
CATEGORIES:VanAndel Arena
END:VEVENT
BEGIN:VEVENT
DTSTART;VALUE=DATE:20251214
DTEND;VALUE=DATE:20251216
DTSTAMP:20260422T093441
CREATED:20251203T024711Z
LAST-MODIFIED:20251203T024711Z
UID:10004520-1765670400-1765843199@www.iatse26.org
SUMMARY:Holland Home
DESCRIPTION:
URL:https://www.iatse26.org/event/holland-home/
CATEGORIES:DeVos Place
END:VEVENT
END:VCALENDAR