BEGIN:VCALENDAR
VERSION:2.0
PRODID:-//IATSE 26 - ECPv6.14.2//NONSGML v1.0//EN
CALSCALE:GREGORIAN
METHOD:PUBLISH
X-WR-CALNAME:IATSE 26
X-ORIGINAL-URL:https://www.iatse26.org
X-WR-CALDESC:Events for IATSE 26
REFRESH-INTERVAL;VALUE=DURATION:PT1H
X-Robots-Tag:noindex
X-PUBLISHED-TTL:PT1H
BEGIN:VTIMEZONE
TZID:America/Detroit
BEGIN:DAYLIGHT
TZOFFSETFROM:-0500
TZOFFSETTO:-0400
TZNAME:EDT
DTSTART:20260308T070000
END:DAYLIGHT
BEGIN:STANDARD
TZOFFSETFROM:-0400
TZOFFSETTO:-0500
TZNAME:EST
DTSTART:20261101T060000
END:STANDARD
END:VTIMEZONE
BEGIN:VEVENT
DTSTART;VALUE=DATE:20260303
DTEND;VALUE=DATE:20260304
DTSTAMP:20260424T151014
CREATED:20260224T205100Z
LAST-MODIFIED:20260224T205100Z
UID:10004636-1772496000-1772582399@www.iatse26.org
SUMMARY:Change Over
DESCRIPTION:
URL:https://www.iatse26.org/event/change-over-9/
CATEGORIES:VanAndel Arena
END:VEVENT
BEGIN:VEVENT
DTSTART;VALUE=DATE:20260303
DTEND;VALUE=DATE:20260304
DTSTAMP:20260424T151014
CREATED:20250920T233738Z
LAST-MODIFIED:20250920T233738Z
UID:10004395-1772496000-1772582399@www.iatse26.org
SUMMARY:Gold
DESCRIPTION:
URL:https://www.iatse26.org/event/gold-16/
CATEGORIES:VanAndel Arena
END:VEVENT
BEGIN:VEVENT
DTSTART;VALUE=DATE:20260301
DTEND;VALUE=DATE:20260302
DTSTAMP:20260424T151014
CREATED:20260224T205004Z
LAST-MODIFIED:20260224T205004Z
UID:10004635-1772323200-1772409599@www.iatse26.org
SUMMARY:Change Over
DESCRIPTION:
URL:https://www.iatse26.org/event/change-over-8/
CATEGORIES:VanAndel Arena
END:VEVENT
BEGIN:VEVENT
DTSTART;VALUE=DATE:20260301
DTEND;VALUE=DATE:20260302
DTSTAMP:20260424T151014
CREATED:20251203T203552Z
LAST-MODIFIED:20251203T203552Z
UID:10004524-1772323200-1772409599@www.iatse26.org
SUMMARY:Elevation Nights
DESCRIPTION:
URL:https://www.iatse26.org/event/elevation-nights/
CATEGORIES:VanAndel Arena
END:VEVENT
BEGIN:VEVENT
DTSTART;VALUE=DATE:20260228
DTEND;VALUE=DATE:20260301
DTSTAMP:20260424T151014
CREATED:20260224T204744Z
LAST-MODIFIED:20260224T204744Z
UID:10004634-1772236800-1772323199@www.iatse26.org
SUMMARY:Changeover
DESCRIPTION:
URL:https://www.iatse26.org/event/changeover-28/
CATEGORIES:VanAndel Arena
END:VEVENT
BEGIN:VEVENT
DTSTART;VALUE=DATE:20260228
DTEND;VALUE=DATE:20260301
DTSTAMP:20260424T151014
CREATED:20250625T132427Z
LAST-MODIFIED:20250625T132427Z
UID:10004308-1772236800-1772323199@www.iatse26.org
SUMMARY:Griffin's
DESCRIPTION:
URL:https://www.iatse26.org/event/griffins-6/
CATEGORIES:VanAndel Arena
END:VEVENT
BEGIN:VEVENT
DTSTART;VALUE=DATE:20260227
DTEND;VALUE=DATE:20260301
DTSTAMP:20260424T151014
CREATED:20251107T232204Z
LAST-MODIFIED:20251107T232204Z
UID:10004489-1772150400-1772323199@www.iatse26.org
SUMMARY:GL Floral
DESCRIPTION:
URL:https://www.iatse26.org/event/gl-floral/
CATEGORIES:DeVos Place
END:VEVENT
BEGIN:VEVENT
DTSTART;VALUE=DATE:20260227
DTEND;VALUE=DATE:20260228
DTSTAMP:20260424T151014
CREATED:20260223T162203Z
LAST-MODIFIED:20260223T162203Z
UID:10004632-1772150400-1772236799@www.iatse26.org
SUMMARY:Lewis Black
DESCRIPTION:
URL:https://www.iatse26.org/event/lewis-black/
CATEGORIES:Firekeepers
END:VEVENT
BEGIN:VEVENT
DTSTART;VALUE=DATE:20260227
DTEND;VALUE=DATE:20260228
DTSTAMP:20260424T151014
CREATED:20250921T011617Z
LAST-MODIFIED:20250921T011723Z
UID:10004413-1772150400-1772236799@www.iatse26.org
SUMMARY:Griffin's
DESCRIPTION:
URL:https://www.iatse26.org/event/griffins-24/
CATEGORIES:VanAndel Arena
END:VEVENT
BEGIN:VEVENT
DTSTART;VALUE=DATE:20260226
DTEND;VALUE=DATE:20260302
DTSTAMP:20260424T151014
CREATED:20251107T232001Z
LAST-MODIFIED:20251107T232001Z
UID:10004488-1772064000-1772409599@www.iatse26.org
SUMMARY:Home & Garden
DESCRIPTION:
URL:https://www.iatse26.org/event/home-garden-2/
CATEGORIES:DeVos Place
END:VEVENT
BEGIN:VEVENT
DTSTART;VALUE=DATE:20260226
DTEND;VALUE=DATE:20260227
DTSTAMP:20260424T151014
CREATED:20260215T185304Z
LAST-MODIFIED:20260215T185304Z
UID:10004614-1772064000-1772150399@www.iatse26.org
SUMMARY:Emmentt Cohen
DESCRIPTION:
URL:https://www.iatse26.org/event/emmentt-cohen/
CATEGORIES:Uncategorized
END:VEVENT
BEGIN:VEVENT
DTSTART;VALUE=DATE:20260226
DTEND;VALUE=DATE:20260227
DTSTAMP:20260424T151014
CREATED:20251203T211201Z
LAST-MODIFIED:20251203T211201Z
UID:10004536-1772064000-1772150399@www.iatse26.org
SUMMARY:Rise
DESCRIPTION:
URL:https://www.iatse26.org/event/rise-7/
CATEGORIES:VanAndel Arena
END:VEVENT
BEGIN:VEVENT
DTSTART;VALUE=DATE:20260226
DTEND;VALUE=DATE:20260227
DTSTAMP:20260424T151014
CREATED:20190712T161514Z
LAST-MODIFIED:20240329T181632Z
UID:10004039-1772064000-1772150399@www.iatse26.org
SUMMARY:IATSE Local 26 General Membership Meeting
DESCRIPTION:Monthly meeting for IATSE Local 26 cardholders and invited guests
URL:https://www.iatse26.org/event/iatse-local-26-general-membership-meeting-2-2023-11-30/2026-02-26/
LOCATION:IATSE Local 26\, 931 Bridge St NW\, Grand Rapids\, MI 49504\, USA\, 201 Bridge St NW\, Grand Rapids\, MI\, United States
CATEGORIES:Uncategorized
GEO:42.97078;-85.672772
X-APPLE-STRUCTURED-LOCATION;VALUE=URI;X-ADDRESS=IATSE Local 26 931 Bridge St NW Grand Rapids MI 49504 USA 201 Bridge St NW Grand Rapids MI United States;X-APPLE-RADIUS=500;X-TITLE=201 Bridge St NW:geo:-85.672772,42.97078
END:VEVENT
BEGIN:VEVENT
DTSTART;VALUE=DATE:20260225
DTEND;VALUE=DATE:20260226
DTSTAMP:20260424T151014
CREATED:20250921T011941Z
LAST-MODIFIED:20250921T011941Z
UID:10004414-1771977600-1772063999@www.iatse26.org
SUMMARY:Griffin's
DESCRIPTION:
URL:https://www.iatse26.org/event/griffins-25/
CATEGORIES:VanAndel Arena
END:VEVENT
BEGIN:VEVENT
DTSTART;VALUE=DATE:20260224
DTEND;VALUE=DATE:20260226
DTSTAMP:20260424T151014
CREATED:20251107T230649Z
LAST-MODIFIED:20251107T230649Z
UID:10004487-1771891200-1772063999@www.iatse26.org
SUMMARY:MI Pork
DESCRIPTION:
URL:https://www.iatse26.org/event/mi-pork/
CATEGORIES:DeVos Place
END:VEVENT
BEGIN:VEVENT
DTSTART;VALUE=DATE:20260224
DTEND;VALUE=DATE:20260225
DTSTAMP:20260424T151014
CREATED:20251203T204252Z
LAST-MODIFIED:20251203T204252Z
UID:10004526-1771891200-1771977599@www.iatse26.org
SUMMARY:Three Days Grace
DESCRIPTION:
URL:https://www.iatse26.org/event/three-days-grace/
CATEGORIES:VanAndel Arena
END:VEVENT
BEGIN:VEVENT
DTSTART;VALUE=DATE:20260223
DTEND;VALUE=DATE:20260302
DTSTAMP:20260424T151014
CREATED:20260125T011442Z
LAST-MODIFIED:20260127T125636Z
UID:10004588-1771804800-1772409599@www.iatse26.org
SUMMARY:Swan Lake
DESCRIPTION:
URL:https://www.iatse26.org/event/swan-lake/
CATEGORIES:DeVos Hall
END:VEVENT
BEGIN:VEVENT
DTSTART;VALUE=DATE:20260222
DTEND;VALUE=DATE:20260223
DTSTAMP:20260424T151014
CREATED:20260215T183501Z
LAST-MODIFIED:20260215T183501Z
UID:10004607-1771718400-1771804799@www.iatse26.org
SUMMARY:Change Over
DESCRIPTION:
URL:https://www.iatse26.org/event/change-over/
CATEGORIES:VanAndel Arena
END:VEVENT
BEGIN:VEVENT
DTSTART;VALUE=DATE:20260222
DTEND;VALUE=DATE:20260223
DTSTAMP:20260424T151014
CREATED:20251009T234058Z
LAST-MODIFIED:20251009T234058Z
UID:10004442-1771718400-1771804799@www.iatse26.org
SUMMARY:Simon Garfunkel Story
DESCRIPTION:
URL:https://www.iatse26.org/event/simon-garfunkel-story/
CATEGORIES:DeVos Hall
END:VEVENT
BEGIN:VEVENT
DTSTART;VALUE=DATE:20260222
DTEND;VALUE=DATE:20260223
DTSTAMP:20260424T151014
CREATED:20251009T224851Z
LAST-MODIFIED:20251009T224851Z
UID:10004437-1771718400-1771804799@www.iatse26.org
SUMMARY:NIN
DESCRIPTION:
URL:https://www.iatse26.org/event/nin/
CATEGORIES:VanAndel Arena
END:VEVENT
BEGIN:VEVENT
DTSTART;VALUE=DATE:20260221
DTEND;VALUE=DATE:20260222
DTSTAMP:20260424T151014
CREATED:20260215T183649Z
LAST-MODIFIED:20260215T183649Z
UID:10004608-1771632000-1771718399@www.iatse26.org
SUMMARY:Change Over
DESCRIPTION:
URL:https://www.iatse26.org/event/change-over-2/
CATEGORIES:VanAndel Arena
END:VEVENT
BEGIN:VEVENT
DTSTART;VALUE=DATE:20260221
DTEND;VALUE=DATE:20260222
DTSTAMP:20260424T151014
CREATED:20250920T233446Z
LAST-MODIFIED:20250920T233446Z
UID:10004394-1771632000-1771718399@www.iatse26.org
SUMMARY:Gold
DESCRIPTION:
URL:https://www.iatse26.org/event/gold-15/
CATEGORIES:VanAndel Arena
END:VEVENT
BEGIN:VEVENT
DTSTART;VALUE=DATE:20260220
DTEND;VALUE=DATE:20260222
DTSTAMP:20260424T151014
CREATED:20260215T174417Z
LAST-MODIFIED:20260215T174417Z
UID:10004604-1771545600-1771718399@www.iatse26.org
SUMMARY:Symphony with Soul
DESCRIPTION:
URL:https://www.iatse26.org/event/symphony-with-soul-3/
CATEGORIES:DeVos Hall
END:VEVENT
BEGIN:VEVENT
DTSTART;VALUE=DATE:20260220
DTEND;VALUE=DATE:20260222
DTSTAMP:20260424T151014
CREATED:20251107T230026Z
LAST-MODIFIED:20251107T230026Z
UID:10004484-1771545600-1771718399@www.iatse26.org
SUMMARY:MASCHS
DESCRIPTION:
URL:https://www.iatse26.org/event/maschs/
CATEGORIES:DeVos Place
END:VEVENT
BEGIN:VEVENT
DTSTART;VALUE=DATE:20260220
DTEND;VALUE=DATE:20260221
DTSTAMP:20260424T151014
CREATED:20260215T183732Z
LAST-MODIFIED:20260215T183732Z
UID:10004609-1771545600-1771631999@www.iatse26.org
SUMMARY:Change Over
DESCRIPTION:
URL:https://www.iatse26.org/event/change-over-3/
CATEGORIES:VanAndel Arena
END:VEVENT
BEGIN:VEVENT
DTSTART;VALUE=DATE:20260220
DTEND;VALUE=DATE:20260221
DTSTAMP:20260424T151014
CREATED:20250921T012119Z
LAST-MODIFIED:20250921T012119Z
UID:10004415-1771545600-1771631999@www.iatse26.org
SUMMARY:Griffin's
DESCRIPTION:
URL:https://www.iatse26.org/event/griffins-26/
CATEGORIES:VanAndel Arena
END:VEVENT
BEGIN:VEVENT
DTSTART;VALUE=DATE:20260219
DTEND;VALUE=DATE:20260220
DTSTAMP:20260424T151014
CREATED:20251009T234524Z
LAST-MODIFIED:20251009T234524Z
UID:10004443-1771459200-1771545599@www.iatse26.org
SUMMARY:Trey Kennedy
DESCRIPTION:
URL:https://www.iatse26.org/event/trey-kennedy/
CATEGORIES:DeVos Hall
END:VEVENT
BEGIN:VEVENT
DTSTART;VALUE=DATE:20260218
DTEND;VALUE=DATE:20260220
DTSTAMP:20260424T151014
CREATED:20251107T230214Z
LAST-MODIFIED:20251107T230214Z
UID:10004485-1771372800-1771545599@www.iatse26.org
SUMMARY:GVSU
DESCRIPTION:
URL:https://www.iatse26.org/event/gvsu/
CATEGORIES:DeVos Place
END:VEVENT
BEGIN:VEVENT
DTSTART;VALUE=DATE:20260218
DTEND;VALUE=DATE:20260219
DTSTAMP:20260424T151014
CREATED:20250921T012615Z
LAST-MODIFIED:20250921T012615Z
UID:10004416-1771372800-1771459199@www.iatse26.org
SUMMARY:Griffin's
DESCRIPTION:
URL:https://www.iatse26.org/event/griffins-27/
CATEGORIES:VanAndel Arena
END:VEVENT
BEGIN:VEVENT
DTSTART;VALUE=DATE:20260217
DTEND;VALUE=DATE:20260220
DTSTAMP:20260424T151014
CREATED:20251107T230428Z
LAST-MODIFIED:20251107T230428Z
UID:10004486-1771286400-1771545599@www.iatse26.org
SUMMARY:SAS
DESCRIPTION:
URL:https://www.iatse26.org/event/sas/
CATEGORIES:DeVos Place
END:VEVENT
END:VCALENDAR