BEGIN:VCALENDAR
VERSION:2.0
PRODID:-//IATSE 26 - ECPv6.14.2//NONSGML v1.0//EN
CALSCALE:GREGORIAN
METHOD:PUBLISH
X-ORIGINAL-URL:https://www.iatse26.org
X-WR-CALDESC:Events for IATSE 26
REFRESH-INTERVAL;VALUE=DURATION:PT1H
X-Robots-Tag:noindex
X-PUBLISHED-TTL:PT1H
BEGIN:VTIMEZONE
TZID:America/Detroit
BEGIN:DAYLIGHT
TZOFFSETFROM:-0500
TZOFFSETTO:-0400
TZNAME:EDT
DTSTART:20260308T070000
END:DAYLIGHT
BEGIN:STANDARD
TZOFFSETFROM:-0400
TZOFFSETTO:-0500
TZNAME:EST
DTSTART:20261101T060000
END:STANDARD
END:VTIMEZONE
BEGIN:VEVENT
DTSTART;VALUE=DATE:20260123
DTEND;VALUE=DATE:20260125
DTSTAMP:20260422T074808
CREATED:20250502T014038Z
LAST-MODIFIED:20250502T014038Z
UID:10004275-1769126400-1769299199@www.iatse26.org
SUMMARY:GRS
DESCRIPTION:
URL:https://www.iatse26.org/event/grs-24/
CATEGORIES:DeVos Hall
END:VEVENT
BEGIN:VEVENT
DTSTART;VALUE=DATE:20260123
DTEND;VALUE=DATE:20260125
DTSTAMP:20260422T074808
CREATED:20251009T224329Z
LAST-MODIFIED:20251009T224329Z
UID:10004436-1769126400-1769299199@www.iatse26.org
SUMMARY:PBR
DESCRIPTION:
URL:https://www.iatse26.org/event/pbr/
CATEGORIES:VanAndel Arena
END:VEVENT
BEGIN:VEVENT
DTSTART;VALUE=DATE:20260123
DTEND;VALUE=DATE:20260125
DTSTAMP:20260422T074808
CREATED:20251107T225056Z
LAST-MODIFIED:20251107T225056Z
UID:10004480-1769126400-1769299199@www.iatse26.org
SUMMARY:Winter Bridal
DESCRIPTION:
URL:https://www.iatse26.org/event/winter-bridal/
CATEGORIES:DeVos Place
END:VEVENT
BEGIN:VEVENT
DTSTART;VALUE=DATE:20260125
DTEND;VALUE=DATE:20260126
DTSTAMP:20260422T074808
CREATED:20260115T124652Z
LAST-MODIFIED:20260115T124652Z
UID:10004574-1769299200-1769385599@www.iatse26.org
SUMMARY:Changeover
DESCRIPTION:
URL:https://www.iatse26.org/event/changeover-24/
CATEGORIES:VanAndel Arena
END:VEVENT
BEGIN:VEVENT
DTSTART;VALUE=DATE:20260125
DTEND;VALUE=DATE:20260128
DTSTAMP:20260422T074808
CREATED:20251107T225306Z
LAST-MODIFIED:20251107T225306Z
UID:10004481-1769299200-1769558399@www.iatse26.org
SUMMARY:MI Career
DESCRIPTION:
URL:https://www.iatse26.org/event/mi-career/
CATEGORIES:DeVos Place
END:VEVENT
BEGIN:VEVENT
DTSTART;VALUE=DATE:20260126
DTEND;VALUE=DATE:20260203
DTSTAMP:20260422T074808
CREATED:20251107T225600Z
LAST-MODIFIED:20251107T225600Z
UID:10004482-1769385600-1770076799@www.iatse26.org
SUMMARY:Auto Show
DESCRIPTION:
URL:https://www.iatse26.org/event/auto-show/
CATEGORIES:DeVos Place
END:VEVENT
BEGIN:VEVENT
DTSTART;VALUE=DATE:20260127
DTEND;VALUE=DATE:20260202
DTSTAMP:20260422T074808
CREATED:20250306T195923Z
LAST-MODIFIED:20250306T195923Z
UID:10004151-1769472000-1769990399@www.iatse26.org
SUMMARY:Kimberly Akimbo
DESCRIPTION:
URL:https://www.iatse26.org/event/kimberly-akimbo/
CATEGORIES:DeVos Hall
END:VEVENT
BEGIN:VEVENT
DTSTART;VALUE=DATE:20260128
DTEND;VALUE=DATE:20260129
DTSTAMP:20260422T074808
CREATED:20250921T013417Z
LAST-MODIFIED:20250921T013417Z
UID:10004420-1769558400-1769644799@www.iatse26.org
SUMMARY:Griffin's
DESCRIPTION:
URL:https://www.iatse26.org/event/griffins-31/
CATEGORIES:VanAndel Arena
END:VEVENT
BEGIN:VEVENT
DTSTART;VALUE=DATE:20260128
DTEND;VALUE=DATE:20260129
DTSTAMP:20260422T074808
CREATED:20260125T005729Z
LAST-MODIFIED:20260125T005729Z
UID:10004585-1769558400-1769644799@www.iatse26.org
SUMMARY:Changeover
DESCRIPTION:
URL:https://www.iatse26.org/event/changeover-25/
CATEGORIES:VanAndel Arena
END:VEVENT
BEGIN:VEVENT
DTSTART;VALUE=DATE:20260128
DTEND;VALUE=DATE:20260130
DTSTAMP:20260422T074808
CREATED:20250913T134529Z
LAST-MODIFIED:20250913T134529Z
UID:10004341-1769558400-1769731199@www.iatse26.org
SUMMARY:Blue Man Group
DESCRIPTION:
URL:https://www.iatse26.org/event/blue-man-group/
CATEGORIES:Miller Auditorium
END:VEVENT
BEGIN:VEVENT
DTSTART;VALUE=DATE:20260128
DTEND;VALUE=DATE:20260130
DTSTAMP:20260422T074808
CREATED:20260115T125146Z
LAST-MODIFIED:20260115T125402Z
UID:10004575-1769558400-1769731199@www.iatse26.org
SUMMARY:GR Chamber
DESCRIPTION:
URL:https://www.iatse26.org/event/gr-chamber/
CATEGORIES:DeVos Place
END:VEVENT
BEGIN:VEVENT
DTSTART;VALUE=DATE:20260129
DTEND;VALUE=DATE:20260130
DTSTAMP:20260422T074808
CREATED:20190712T161514Z
LAST-MODIFIED:20240329T181632Z
UID:10004038-1769644800-1769731199@www.iatse26.org
SUMMARY:IATSE Local 26 General Membership Meeting
DESCRIPTION:Monthly meeting for IATSE Local 26 cardholders and invited guests
URL:https://www.iatse26.org/event/iatse-local-26-general-membership-meeting-2-2023-11-30/2026-01-29/
LOCATION:IATSE Local 26\, 931 Bridge St NW\, Grand Rapids\, MI 49504\, USA\, 201 Bridge St NW\, Grand Rapids\, MI\, United States
CATEGORIES:Uncategorized
GEO:42.97078;-85.672772
X-APPLE-STRUCTURED-LOCATION;VALUE=URI;X-ADDRESS=IATSE Local 26 931 Bridge St NW Grand Rapids MI 49504 USA 201 Bridge St NW Grand Rapids MI United States;X-APPLE-RADIUS=500;X-TITLE=201 Bridge St NW:geo:-85.672772,42.97078
END:VEVENT
BEGIN:VEVENT
DTSTART;VALUE=DATE:20260129
DTEND;VALUE=DATE:20260130
DTSTAMP:20260422T074808
CREATED:20251203T210042Z
LAST-MODIFIED:20251203T210042Z
UID:10004532-1769644800-1769731199@www.iatse26.org
SUMMARY:Rise
DESCRIPTION:
URL:https://www.iatse26.org/event/rise-3/
CATEGORIES:VanAndel Arena
END:VEVENT
BEGIN:VEVENT
DTSTART;VALUE=DATE:20260129
DTEND;VALUE=DATE:20260130
DTSTAMP:20260422T074808
CREATED:20260125T005849Z
LAST-MODIFIED:20260125T005849Z
UID:10004586-1769644800-1769731199@www.iatse26.org
SUMMARY:Changeover
DESCRIPTION:
URL:https://www.iatse26.org/event/changeover-26/
CATEGORIES:VanAndel Arena
END:VEVENT
BEGIN:VEVENT
DTSTART;VALUE=DATE:20260130
DTEND;VALUE=DATE:20260131
DTSTAMP:20260422T074808
CREATED:20250921T013149Z
LAST-MODIFIED:20250921T013149Z
UID:10004419-1769731200-1769817599@www.iatse26.org
SUMMARY:Griffin's
DESCRIPTION:
URL:https://www.iatse26.org/event/griffins-30/
CATEGORIES:VanAndel Arena
END:VEVENT
BEGIN:VEVENT
DTSTART;VALUE=DATE:20260130
DTEND;VALUE=DATE:20260131
DTSTAMP:20260422T074808
CREATED:20260125T005944Z
LAST-MODIFIED:20260125T005944Z
UID:10004587-1769731200-1769817599@www.iatse26.org
SUMMARY:Changeover
DESCRIPTION:
URL:https://www.iatse26.org/event/changeover-27/
CATEGORIES:VanAndel Arena
END:VEVENT
BEGIN:VEVENT
DTSTART;VALUE=DATE:20260131
DTEND;VALUE=DATE:20260201
DTSTAMP:20260422T074808
CREATED:20251107T225729Z
LAST-MODIFIED:20251107T225729Z
UID:10004483-1769817600-1769903999@www.iatse26.org
SUMMARY:Giants
DESCRIPTION:
URL:https://www.iatse26.org/event/giants/
CATEGORIES:DeVos Place
END:VEVENT
BEGIN:VEVENT
DTSTART;VALUE=DATE:20260201
DTEND;VALUE=DATE:20260202
DTSTAMP:20260422T074808
CREATED:20251203T210142Z
LAST-MODIFIED:20251203T210142Z
UID:10004533-1769904000-1769990399@www.iatse26.org
SUMMARY:Rise
DESCRIPTION:
URL:https://www.iatse26.org/event/rise-4/
CATEGORIES:VanAndel Arena
END:VEVENT
BEGIN:VEVENT
DTSTART;VALUE=DATE:20260202
DTEND;VALUE=DATE:20260203
DTSTAMP:20260422T074808
CREATED:20260126T194027Z
LAST-MODIFIED:20260126T194027Z
UID:10004589-1769990400-1770076799@www.iatse26.org
SUMMARY:26 Party
DESCRIPTION:
URL:https://www.iatse26.org/event/26-party/
CATEGORIES:Local 26
END:VEVENT
BEGIN:VEVENT
DTSTART;VALUE=DATE:20260202
DTEND;VALUE=DATE:20260203
DTSTAMP:20260422T074808
CREATED:20260202T145437Z
LAST-MODIFIED:20260202T145437Z
UID:10004599-1769990400-1770076799@www.iatse26.org
SUMMARY:Restore
DESCRIPTION:
URL:https://www.iatse26.org/event/restore/
CATEGORIES:DeVos Hall
END:VEVENT
BEGIN:VEVENT
DTSTART;VALUE=DATE:20260204
DTEND;VALUE=DATE:20260206
DTSTAMP:20260422T074808
CREATED:20250913T134720Z
LAST-MODIFIED:20250913T134720Z
UID:10004342-1770163200-1770335999@www.iatse26.org
SUMMARY:Clue
DESCRIPTION:
URL:https://www.iatse26.org/event/clue-2/
CATEGORIES:Miller Auditorium
END:VEVENT
BEGIN:VEVENT
DTSTART;VALUE=DATE:20260204
DTEND;VALUE=DATE:20260209
DTSTAMP:20260422T074808
CREATED:20250921T002124Z
LAST-MODIFIED:20250921T002124Z
UID:10004404-1770163200-1770595199@www.iatse26.org
SUMMARY:Disney
DESCRIPTION:
URL:https://www.iatse26.org/event/disney-2/
CATEGORIES:VanAndel Arena
END:VEVENT
BEGIN:VEVENT
DTSTART;VALUE=DATE:20260206
DTEND;VALUE=DATE:20260208
DTSTAMP:20260422T074808
CREATED:20250919T181049Z
LAST-MODIFIED:20250919T181049Z
UID:10004370-1770336000-1770508799@www.iatse26.org
SUMMARY:GRS
DESCRIPTION:
URL:https://www.iatse26.org/event/grs-25/
CATEGORIES:DeVos Hall
END:VEVENT
BEGIN:VEVENT
DTSTART;VALUE=DATE:20260211
DTEND;VALUE=DATE:20260212
DTSTAMP:20260422T074808
CREATED:20251006T180922Z
LAST-MODIFIED:20251006T181134Z
UID:10004432-1770768000-1770854399@www.iatse26.org
SUMMARY:Offspring
DESCRIPTION:
URL:https://www.iatse26.org/event/offspring/
CATEGORIES:VanAndel Arena
END:VEVENT
BEGIN:VEVENT
DTSTART;VALUE=DATE:20260211
DTEND;VALUE=DATE:20260212
DTSTAMP:20260422T074808
CREATED:20260215T184055Z
LAST-MODIFIED:20260215T184055Z
UID:10004613-1770768000-1770854399@www.iatse26.org
SUMMARY:Change Over
DESCRIPTION:
URL:https://www.iatse26.org/event/change-over-7/
CATEGORIES:VanAndel Arena
END:VEVENT
BEGIN:VEVENT
DTSTART;VALUE=DATE:20260212
DTEND;VALUE=DATE:20260213
DTSTAMP:20260422T074808
CREATED:20251203T210425Z
LAST-MODIFIED:20251203T210425Z
UID:10004534-1770854400-1770940799@www.iatse26.org
SUMMARY:Rise
DESCRIPTION:
URL:https://www.iatse26.org/event/rise-5/
CATEGORIES:VanAndel Arena
END:VEVENT
BEGIN:VEVENT
DTSTART;VALUE=DATE:20260212
DTEND;VALUE=DATE:20260213
DTSTAMP:20260422T074808
CREATED:20251203T213641Z
LAST-MODIFIED:20251203T213641Z
UID:10004546-1770854400-1770940799@www.iatse26.org
SUMMARY:Matteo Lane
DESCRIPTION:
URL:https://www.iatse26.org/event/matteo-lane/
CATEGORIES:DeVos Hall
END:VEVENT
BEGIN:VEVENT
DTSTART;VALUE=DATE:20260212
DTEND;VALUE=DATE:20260213
DTSTAMP:20260422T074808
CREATED:20260215T184001Z
LAST-MODIFIED:20260215T184001Z
UID:10004612-1770854400-1770940799@www.iatse26.org
SUMMARY:Change Over
DESCRIPTION:
URL:https://www.iatse26.org/event/change-over-6/
CATEGORIES:VanAndel Arena
END:VEVENT
BEGIN:VEVENT
DTSTART;VALUE=DATE:20260213
DTEND;VALUE=DATE:20260214
DTSTAMP:20260422T074808
CREATED:20250624T175549Z
LAST-MODIFIED:20250624T175549Z
UID:10004300-1770940800-1771027199@www.iatse26.org
SUMMARY:Brad Williams
DESCRIPTION:
URL:https://www.iatse26.org/event/brad-williams/
CATEGORIES:DeVos Hall
END:VEVENT
BEGIN:VEVENT
DTSTART;VALUE=DATE:20260213
DTEND;VALUE=DATE:20260214
DTSTAMP:20260422T074808
CREATED:20250921T012838Z
LAST-MODIFIED:20250921T012939Z
UID:10004418-1770940800-1771027199@www.iatse26.org
SUMMARY:Griffin's
DESCRIPTION:
URL:https://www.iatse26.org/event/griffins-29/
CATEGORIES:VanAndel Arena
END:VEVENT
END:VCALENDAR