BEGIN:VCALENDAR
VERSION:2.0
PRODID:-//IATSE 26 - ECPv6.14.2//NONSGML v1.0//EN
CALSCALE:GREGORIAN
METHOD:PUBLISH
X-WR-CALNAME:IATSE 26
X-ORIGINAL-URL:https://www.iatse26.org
X-WR-CALDESC:Events for IATSE 26
REFRESH-INTERVAL;VALUE=DURATION:PT1H
X-Robots-Tag:noindex
X-PUBLISHED-TTL:PT1H
BEGIN:VTIMEZONE
TZID:America/Detroit
BEGIN:DAYLIGHT
TZOFFSETFROM:-0500
TZOFFSETTO:-0400
TZNAME:EDT
DTSTART:20260308T070000
END:DAYLIGHT
BEGIN:STANDARD
TZOFFSETFROM:-0400
TZOFFSETTO:-0500
TZNAME:EST
DTSTART:20261101T060000
END:STANDARD
END:VTIMEZONE
BEGIN:VEVENT
DTSTART;VALUE=DATE:20260227
DTEND;VALUE=DATE:20260228
DTSTAMP:20260422T091438
CREATED:20260223T162203Z
LAST-MODIFIED:20260223T162203Z
UID:10004632-1772150400-1772236799@www.iatse26.org
SUMMARY:Lewis Black
DESCRIPTION:
URL:https://www.iatse26.org/event/lewis-black/
CATEGORIES:Firekeepers
END:VEVENT
BEGIN:VEVENT
DTSTART;VALUE=DATE:20260227
DTEND;VALUE=DATE:20260301
DTSTAMP:20260422T091438
CREATED:20251107T232204Z
LAST-MODIFIED:20251107T232204Z
UID:10004489-1772150400-1772323199@www.iatse26.org
SUMMARY:GL Floral
DESCRIPTION:
URL:https://www.iatse26.org/event/gl-floral/
CATEGORIES:DeVos Place
END:VEVENT
BEGIN:VEVENT
DTSTART;VALUE=DATE:20260228
DTEND;VALUE=DATE:20260301
DTSTAMP:20260422T091438
CREATED:20250625T132427Z
LAST-MODIFIED:20250625T132427Z
UID:10004308-1772236800-1772323199@www.iatse26.org
SUMMARY:Griffin's
DESCRIPTION:
URL:https://www.iatse26.org/event/griffins-6/
CATEGORIES:VanAndel Arena
END:VEVENT
BEGIN:VEVENT
DTSTART;VALUE=DATE:20260228
DTEND;VALUE=DATE:20260301
DTSTAMP:20260422T091438
CREATED:20260224T204744Z
LAST-MODIFIED:20260224T204744Z
UID:10004634-1772236800-1772323199@www.iatse26.org
SUMMARY:Changeover
DESCRIPTION:
URL:https://www.iatse26.org/event/changeover-28/
CATEGORIES:VanAndel Arena
END:VEVENT
BEGIN:VEVENT
DTSTART;VALUE=DATE:20260301
DTEND;VALUE=DATE:20260302
DTSTAMP:20260422T091438
CREATED:20251203T203552Z
LAST-MODIFIED:20251203T203552Z
UID:10004524-1772323200-1772409599@www.iatse26.org
SUMMARY:Elevation Nights
DESCRIPTION:
URL:https://www.iatse26.org/event/elevation-nights/
CATEGORIES:VanAndel Arena
END:VEVENT
BEGIN:VEVENT
DTSTART;VALUE=DATE:20260301
DTEND;VALUE=DATE:20260302
DTSTAMP:20260422T091438
CREATED:20260224T205004Z
LAST-MODIFIED:20260224T205004Z
UID:10004635-1772323200-1772409599@www.iatse26.org
SUMMARY:Change Over
DESCRIPTION:
URL:https://www.iatse26.org/event/change-over-8/
CATEGORIES:VanAndel Arena
END:VEVENT
BEGIN:VEVENT
DTSTART;VALUE=DATE:20260303
DTEND;VALUE=DATE:20260304
DTSTAMP:20260422T091438
CREATED:20250920T233738Z
LAST-MODIFIED:20250920T233738Z
UID:10004395-1772496000-1772582399@www.iatse26.org
SUMMARY:Gold
DESCRIPTION:
URL:https://www.iatse26.org/event/gold-16/
CATEGORIES:VanAndel Arena
END:VEVENT
BEGIN:VEVENT
DTSTART;VALUE=DATE:20260303
DTEND;VALUE=DATE:20260304
DTSTAMP:20260422T091438
CREATED:20260224T205100Z
LAST-MODIFIED:20260224T205100Z
UID:10004636-1772496000-1772582399@www.iatse26.org
SUMMARY:Change Over
DESCRIPTION:
URL:https://www.iatse26.org/event/change-over-9/
CATEGORIES:VanAndel Arena
END:VEVENT
BEGIN:VEVENT
DTSTART;VALUE=DATE:20260303
DTEND;VALUE=DATE:20260305
DTSTAMP:20260422T091438
CREATED:20250913T174442Z
LAST-MODIFIED:20250913T174442Z
UID:10004343-1772496000-1772668799@www.iatse26.org
SUMMARY:Tina
DESCRIPTION:
URL:https://www.iatse26.org/event/tina/
CATEGORIES:Miller Auditorium
END:VEVENT
BEGIN:VEVENT
DTSTART;VALUE=DATE:20260303
DTEND;VALUE=DATE:20260305
DTSTAMP:20260422T091438
CREATED:20251107T232517Z
LAST-MODIFIED:20251107T232517Z
UID:10004490-1772496000-1772668799@www.iatse26.org
SUMMARY:Configura
DESCRIPTION:
URL:https://www.iatse26.org/event/configura/
CATEGORIES:DeVos Place
END:VEVENT
BEGIN:VEVENT
DTSTART;VALUE=DATE:20260303
DTEND;VALUE=DATE:20260307
DTSTAMP:20260422T091438
CREATED:20251107T232708Z
LAST-MODIFIED:20251107T232708Z
UID:10004491-1772496000-1772841599@www.iatse26.org
SUMMARY:MIAEYC
DESCRIPTION:
URL:https://www.iatse26.org/event/miaeyc/
CATEGORIES:DeVos Place
END:VEVENT
BEGIN:VEVENT
DTSTART;VALUE=DATE:20260304
DTEND;VALUE=DATE:20260305
DTSTAMP:20260422T091438
CREATED:20250921T011344Z
LAST-MODIFIED:20250921T011344Z
UID:10004412-1772582400-1772668799@www.iatse26.org
SUMMARY:Griffin's
DESCRIPTION:
URL:https://www.iatse26.org/event/griffins-23/
CATEGORIES:VanAndel Arena
END:VEVENT
BEGIN:VEVENT
DTSTART;VALUE=DATE:20260304
DTEND;VALUE=DATE:20260305
DTSTAMP:20260422T091438
CREATED:20260224T205155Z
LAST-MODIFIED:20260224T205155Z
UID:10004637-1772582400-1772668799@www.iatse26.org
SUMMARY:Change Over
DESCRIPTION:
URL:https://www.iatse26.org/event/change-over-10/
CATEGORIES:VanAndel Arena
END:VEVENT
BEGIN:VEVENT
DTSTART;VALUE=DATE:20260305
DTEND;VALUE=DATE:20260306
DTSTAMP:20260422T091438
CREATED:20250920T234017Z
LAST-MODIFIED:20250920T234017Z
UID:10004396-1772668800-1772755199@www.iatse26.org
SUMMARY:Gold
DESCRIPTION:
URL:https://www.iatse26.org/event/gold-17/
CATEGORIES:VanAndel Arena
END:VEVENT
BEGIN:VEVENT
DTSTART;VALUE=DATE:20260306
DTEND;VALUE=DATE:20260308
DTSTAMP:20260422T091438
CREATED:20251107T232854Z
LAST-MODIFIED:20251107T233015Z
UID:10004492-1772755200-1772927999@www.iatse26.org
SUMMARY:Women's Expo
DESCRIPTION:
URL:https://www.iatse26.org/event/womens-expo/
CATEGORIES:DeVos Place
END:VEVENT
BEGIN:VEVENT
DTSTART;TZID=America/Detroit:20260306T080000
DTEND;TZID=America/Detroit:20260307T170000
DTSTAMP:20260422T091438
CREATED:20250919T180751Z
LAST-MODIFIED:20250919T180751Z
UID:10004369-1772784000-1772902800@www.iatse26.org
SUMMARY:GRS
DESCRIPTION:
URL:https://www.iatse26.org/event/grs-9/
CATEGORIES:DeVos Hall
END:VEVENT
BEGIN:VEVENT
DTSTART;VALUE=DATE:20260307
DTEND;VALUE=DATE:20260308
DTSTAMP:20260422T091438
CREATED:20251203T211323Z
LAST-MODIFIED:20251203T211323Z
UID:10004537-1772841600-1772927999@www.iatse26.org
SUMMARY:Rise
DESCRIPTION:
URL:https://www.iatse26.org/event/rise-8/
CATEGORIES:VanAndel Arena
END:VEVENT
BEGIN:VEVENT
DTSTART;VALUE=DATE:20260307
DTEND;VALUE=DATE:20260308
DTSTAMP:20260422T091438
CREATED:20260224T205518Z
LAST-MODIFIED:20260224T205518Z
UID:10004638-1772841600-1772927999@www.iatse26.org
SUMMARY:Change Over
DESCRIPTION:
URL:https://www.iatse26.org/event/change-over-11/
CATEGORIES:VanAndel Arena
END:VEVENT
BEGIN:VEVENT
DTSTART;VALUE=DATE:20260308
DTEND;VALUE=DATE:20260309
DTSTAMP:20260422T091438
CREATED:20251009T233811Z
LAST-MODIFIED:20251009T233827Z
UID:10004441-1772928000-1773014399@www.iatse26.org
SUMMARY:Dancing with the Stars
DESCRIPTION:
URL:https://www.iatse26.org/event/dancing-with-the-staars/
CATEGORIES:DeVos Hall
END:VEVENT
BEGIN:VEVENT
DTSTART;VALUE=DATE:20260308
DTEND;VALUE=DATE:20260309
DTSTAMP:20260422T091438
CREATED:20251203T203813Z
LAST-MODIFIED:20251203T203813Z
UID:10004525-1772928000-1773014399@www.iatse26.org
SUMMARY:Winter Jam
DESCRIPTION:
URL:https://www.iatse26.org/event/winter-jam-2/
CATEGORIES:VanAndel Arena
END:VEVENT
BEGIN:VEVENT
DTSTART;VALUE=DATE:20260308
DTEND;VALUE=DATE:20260309
DTSTAMP:20260422T091438
CREATED:20260215T185414Z
LAST-MODIFIED:20260215T185414Z
UID:10004615-1772928000-1773014399@www.iatse26.org
SUMMARY:Shawn Colvin
DESCRIPTION:
URL:https://www.iatse26.org/event/shawn-colvin/
CATEGORIES:Uncategorized
END:VEVENT
BEGIN:VEVENT
DTSTART;VALUE=DATE:20260308
DTEND;VALUE=DATE:20260309
DTSTAMP:20260422T091438
CREATED:20260224T210001Z
LAST-MODIFIED:20260224T210001Z
UID:10004640-1772928000-1773014399@www.iatse26.org
SUMMARY:Change Over
DESCRIPTION:
URL:https://www.iatse26.org/event/change-over-13/
CATEGORIES:VanAndel Arena
END:VEVENT
BEGIN:VEVENT
DTSTART;VALUE=DATE:20260309
DTEND;VALUE=DATE:20260311
DTSTAMP:20260422T091438
CREATED:20251107T233321Z
LAST-MODIFIED:20251107T233321Z
UID:10004493-1773014400-1773187199@www.iatse26.org
SUMMARY:Int. Women's Day
DESCRIPTION:
URL:https://www.iatse26.org/event/int-womens-day/
CATEGORIES:DeVos Place
END:VEVENT
BEGIN:VEVENT
DTSTART;VALUE=DATE:20260310
DTEND;VALUE=DATE:20260311
DTSTAMP:20260422T091438
CREATED:20250920T234405Z
LAST-MODIFIED:20250920T234405Z
UID:10004397-1773100800-1773187199@www.iatse26.org
SUMMARY:Gold
DESCRIPTION:
URL:https://www.iatse26.org/event/gold-18/
CATEGORIES:VanAndel Arena
END:VEVENT
BEGIN:VEVENT
DTSTART;VALUE=DATE:20260310
DTEND;VALUE=DATE:20260316
DTSTAMP:20260422T091438
CREATED:20250306T200114Z
LAST-MODIFIED:20250306T200114Z
UID:10004152-1773100800-1773619199@www.iatse26.org
SUMMARY:& Juliet
DESCRIPTION:
URL:https://www.iatse26.org/event/juliet/
CATEGORIES:DeVos Hall
END:VEVENT
BEGIN:VEVENT
DTSTART;VALUE=DATE:20260311
DTEND;VALUE=DATE:20260312
DTSTAMP:20260422T091438
CREATED:20260224T205701Z
LAST-MODIFIED:20260224T205803Z
UID:10004639-1773187200-1773273599@www.iatse26.org
SUMMARY:Change Over
DESCRIPTION:
URL:https://www.iatse26.org/event/change-over-12/
CATEGORIES:VanAndel Arena
END:VEVENT
BEGIN:VEVENT
DTSTART;VALUE=DATE:20260311
DTEND;VALUE=DATE:20260312
DTSTAMP:20260422T091438
CREATED:20250920T234602Z
LAST-MODIFIED:20250920T234602Z
UID:10004398-1773187200-1773273599@www.iatse26.org
SUMMARY:Gold
DESCRIPTION:
URL:https://www.iatse26.org/event/gold-19/
CATEGORIES:VanAndel Arena
END:VEVENT
BEGIN:VEVENT
DTSTART;VALUE=DATE:20260312
DTEND;VALUE=DATE:20260313
DTSTAMP:20260422T091438
CREATED:20250921T001849Z
LAST-MODIFIED:20260106T033200Z
UID:10004403-1773273600-1773359999@www.iatse26.org
SUMMARY:Bailey Zimmerman
DESCRIPTION:
URL:https://www.iatse26.org/event/bailey-zimmerman/
CATEGORIES:VanAndel Arena
END:VEVENT
BEGIN:VEVENT
DTSTART;VALUE=DATE:20260312
DTEND;VALUE=DATE:20260313
DTSTAMP:20260422T091438
CREATED:20260302T001610Z
LAST-MODIFIED:20260302T001610Z
UID:10004649-1773273600-1773359999@www.iatse26.org
SUMMARY:Changeover
DESCRIPTION:
URL:https://www.iatse26.org/event/changeover-31/
CATEGORIES:VanAndel Arena
END:VEVENT
BEGIN:VEVENT
DTSTART;VALUE=DATE:20260313
DTEND;VALUE=DATE:20260314
DTSTAMP:20260422T091438
CREATED:20250921T011205Z
LAST-MODIFIED:20250921T011205Z
UID:10004411-1773360000-1773446399@www.iatse26.org
SUMMARY:Griffin's
DESCRIPTION:
URL:https://www.iatse26.org/event/griffins-22/
CATEGORIES:VanAndel Arena
END:VEVENT
END:VCALENDAR